BEGIN:VCALENDAR
VERSION:2.0
PRODID:-//ChamberMaster//Event Calendar 2.0//EN
METHOD:PUBLISH
X-PUBLISHED-TTL:P3D
REFRESH-INTERVAL:P3D
CALSCALE:GREGORIAN
BEGIN:VEVENT
DTSTART;VALUE=DATE:20231031
DTEND;VALUE=DATE:20231121
TRANSP:TRANSPARENT
X-MICROSOFT-CDO-ALLDAYEVENT:TRUE
SUMMARY:Business Registration - Shop Local Extravaganza 2023
DESCRIPTION:Businesses! \n\nIf you are interested in participating in the Shop Local Extravaganza on Saturdays from November 25 - December 16\, please sign up by November 20\, using the green "Register Now" button above.  If you have any questions\, call Emily at 302-539-2100 ext. 114.\n\n\n\nCustomers will be encouraged to Shop\, Dine\, Stay & Play for a chance to win an in-store raffle from participating businesses or the grand prize of a $500 gift card.  Every transaction of at least $20 at a participating business grants that patron an entry into the grand prize drawings and that specific business's raffle prize drawing\, if applicable.  Businesses that want to offer in-store raffle prize drawings are responsible for managing and planning those prize drawings\, and the grand prize drawing will take place at the Chamber on Monday\, December 18th. \n\n\n\nThis initiative\, organized by the Chamber\, is designed to support the local member businesses of the Quiet Resorts which includes businesses of Bethany Beach\, Clarksville\, Dagsboro\, Fenwick Island\, Frankford\, Millville\, Ocean View\, Roxana\, Selbyville\, and South Bethany.\n\n\n\nHOW IT WORKS\n\n	Click green registration button at top of this page\n	Complete all required registration fields\, including promotional information for your business on Saturday\, November 25\, December 2\, December 9 and December 16\, and if you are choosing to offer an in-store raffle prize.\n	The Chamber will distribute ALL raffle tickets that will be used during the event.  You DO NOT need to purchase raffle tickets.\n	 All businesses participating in Shop Local Extravaganza will have raffle tickets\, even if they are not offering an in-store raffle prize.  In that instance\, raffle tickets would just go towards the grand prize drawings.\n	The grand prize drawing will take place on Monday\, December 18th at the Chamber\n	\n		 All raffle tickets need to be dropped off at the Chamber or scheduled for pickup by 3pm on Monday\, December 18th.\n	\n	\n	Participating businesses will be listed on the Chamber's Facebook Event Page\n	\n		Please accept Facebook co-host request. This will allow you to add information to event page and the event will show up on your business page. (If applicable)\n	\n	\n	The Chamber will distribute flyers. Please hang in the store.\n	Educate employees that the event is on Saturdays ONLY (November 25th\, December 2nd\, 9th\, and 16th).  It is recommended that purchases of $20+ grant entry into the raffle.  ONLY give raffle tickets out on these dates!\n	You are responsible for all tickets you are given. In order for us to track the number of participation\, we must be able to collect ALL tickets\, used or not used\, at the end of the event (Monday\, December 18th).\n	\n		Please keep collected tickets (used) and non-used tickets separate for when a Chamber staff member comes to collect. \n	\n	\n\nRULES FOR CUSTOMER TO QUALIFY\n\n\n	Purchases recommended to be of $20 or more. \n	Purchase must be in-store\, or online for home-based businesses\, Saturday\, November 25th\, December 2nd\, 9th\, or 16th.\n	Must be 18 years of age or older to participate in raffle.\n\nIN STORE RAFFLE IDEAS!\n\n\n	Gift card\n	Gift basket\n	Complimentary services\n	Complimentary meals\n	Specific store giveaway \n	RAFFLE PRIZE MINIMUM VALUE: $25  & up to what makes sense for your business
X-ALT-DESC;FMTTYPE=text/html:<span style="font-size:14px\;"><span style="font-family:arial\;"><strong><em>Businesses!&nbsp\;<br />\nIf you are interested in participating in the Shop Local Extravaganza on Saturdays from November 25 - December 16\, please sign up by November 20\, using the green &quot\;Register Now&quot\; button above.&nbsp\; If you have any questions\, call Emily at 302-539-2100 ext. 114.</em></strong><br />\n<br />\nCustomers will be encouraged to<strong><em> Shop\, Dine\,</em></strong>&nbsp\;<strong><em>Stay &amp\; Play</em></strong>&nbsp\;for a chance to win an in-store raffle from participating businesses or the grand prize of&nbsp\;<strong>a $500 gift card.&nbsp\;&nbsp\;</strong>Every transaction of at least $20 at a participating business grants that patron an entry into the grand prize drawings and that specific business&#39\;s raffle prize drawing\, if applicable.&nbsp\; Businesses that want to offer in-store raffle prize drawings are responsible for managing and planning those prize drawings\, and the grand prize drawing will take place at the Chamber on <b>Monday\, December 18th.&nbsp\;</b></span></span><br />\n<br />\n<span style="color: rgb(37\, 32\, 26)\; font-family: arial\; font-size: 14px\;">This initiative\, organized by the Chamber\, is designed to support the&nbsp\;</span><span style="font-family: arial\; box-sizing: content-box\; font-weight: bolder\; inset: auto\; clear: none\; color: rgb(37\, 32\, 26)\; content: normal\; direction: inherit\; empty-cells: show\; font-variant-numeric: inherit\; font-variant-east-asian: inherit\; font-stretch: inherit\; font-size: 14px\; line-height: inherit\; margin: 0px\; max-height: none\; max-width: none\; min-height: initial\; min-width: initial\; opacity: 1\; outline-offset: 0px\; overflow: visible\; padding: 0px\; position: static\; resize: none\; table-layout: auto\; text-overflow: clip\; vertical-align: baseline\; visibility: inherit\; word-break: inherit\; overflow-wrap: inherit\; z-index: auto\; background-image: none\; background-position: initial\; background-size: initial\; background-repeat: initial\; background-attachment: initial\; background-origin: initial\; background-clip: initial\; border: none\; border-collapse: separate\; border-radius: 0px\; height: auto\; width: auto\; box-shadow: none\;">local member businesses</span><span style="color: rgb(37\, 32\, 26)\; font-family: arial\; font-size: 14px\;">&nbsp\;of the Quiet Resorts which includes businesses of&nbsp\;</span><span style="font-family: arial\; box-sizing: content-box\; font-weight: bolder\; inset: auto\; clear: none\; color: rgb(37\, 32\, 26)\; content: normal\; direction: inherit\; empty-cells: show\; font-variant-numeric: inherit\; font-variant-east-asian: inherit\; font-stretch: inherit\; font-size: 14px\; line-height: inherit\; margin: 0px\; max-height: none\; max-width: none\; min-height: initial\; min-width: initial\; opacity: 1\; outline-offset: 0px\; overflow: visible\; padding: 0px\; position: static\; resize: none\; table-layout: auto\; text-overflow: clip\; vertical-align: baseline\; visibility: inherit\; word-break: inherit\; overflow-wrap: inherit\; z-index: auto\; background-image: none\; background-position: initial\; background-size: initial\; background-repeat: initial\; background-attachment: initial\; background-origin: initial\; background-clip: initial\; border: none\; border-collapse: separate\; border-radius: 0px\; height: auto\; width: auto\; box-shadow: none\;">Bethany Beach\, Clarksville\, Dagsboro\, Fenwick Island\, Frankford\, Millville\, Ocean View\, Roxana\, Selbyville\, and South Bethany</span><span style="color: rgb(37\, 32\, 26)\; font-family: arial\; font-size: 14px\;">.</span><br />\n<br />\n<span style="font-size:14px\;"><span style="font-family:arial\;"><strong><u>HOW IT WORKS</u></strong></span></span>\n<ul>\n	<li><span style="font-size:14px\;"><span style="font-family:arial\;"><strong>Click green registration button at top of this page</strong></span></span></li>\n	<li><font face="arial"><span style="font-size: 14px\;"><b>Complete all required registration fields\, including promotional&nbsp\;information for your business on Saturday\,&nbsp\;November 25\, December 2\, December 9 and December 16\, and if you are choosing to offer an in-store raffle prize.</b></span></font></li>\n	<li><strong style="font-family: arial\; font-size: 14px\;">The Chamber will distribute ALL raffle tickets that will be used during the event.&nbsp\; You DO NOT&nbsp\;need to purchase raffle tickets.</strong></li>\n	<li><span style="font-size:14px\;"><span style="font-family:arial\;"><strong>&#8203\;All&nbsp\;businesses participating in Shop Local Extravaganza&nbsp\;will have raffle tickets\, even if they are not offering an in-store raffle prize.&nbsp\; In that&nbsp\;instance\, raffle tickets would just go towards the grand prize drawings.</strong></span></span></li>\n	<li><span style="font-size:14px\;"><span style="font-family:arial\;"><strong>The grand prize drawing&nbsp\;will take place on Monday\, December 18th&nbsp\;at the Chamber</strong></span></span>\n	<ul>\n		<li><span style="font-size:14px\;"><span style="font-family:arial\;"><strong>&#8203\;All raffle tickets need to be dropped off at the Chamber or scheduled for pickup by 3pm on Monday\, December 18th.</strong></span></span></li>\n	</ul>\n	</li>\n	<li><span style="font-size:14px\;"><span style="font-family:arial\;"><strong>Participating businesses will be listed on the Chamber&#39\;s Facebook Event Page</strong></span></span>\n	<ul>\n		<li><span style="font-size:14px\;"><span style="font-family:arial\;"><strong>Please accept Facebook co-host request. This will allow you to add information to event page and the event will show up on your business page. (If applicable)</strong></span></span></li>\n	</ul>\n	</li>\n	<li><span style="font-size:14px\;"><span style="font-family:arial\;"><strong>The Chamber will distribute flyers. Please hang in the store.</strong></span></span></li>\n	<li><span style="font-size:14px\;"><span style="font-family:arial\;"><strong>Educate employees that the event is on Saturdays ONLY (November 25th\, December 2nd\, 9th\, and 16th).&nbsp\; It is recommended that purchases of $20+ grant&nbsp\;entry into the raffle.&nbsp\; ONLY give raffle tickets out on these dates!</strong></span></span></li>\n	<li><span style="font-size:14px\;"><span style="font-family:arial\;"><strong>You are responsible for all tickets you are given. In order for us to track the number of participation\, we must be able to collect ALL tickets\, used or not used\, at the end of the event (Monday\, December 18th).</strong></span></span>\n	<ul>\n		<li><span style="font-size:14px\;"><span style="font-family:arial\;"><strong>Please keep collected tickets (used) and non-used tickets separate&nbsp\;for when a Chamber staff member comes to collect.&nbsp\;</strong></span></span></li>\n	</ul>\n	</li>\n</ul>\n<span style="font-size:14px\;"><span style="font-family:arial\;"><strong><u>RULES FOR CUSTOMER TO QUALIFY</u></strong></span></span>\n\n<ul>\n	<li><span style="font-size:14px\;"><span style="font-family:arial\;"><strong>Purchases recommended to be of $20 or more.&nbsp\;</strong></span></span></li>\n	<li><span style="font-size:14px\;"><span style="font-family:arial\;"><strong>Purchase must be in-store\, or online for home-based businesses\, Saturday\, November 25th\, December 2nd\, 9th\, or 16th.</strong></span></span></li>\n	<li><span style="font-size:14px\;"><span style="font-family:arial\;"><strong>Must be 18 years of age or older to participate in raffle.</strong></span></span></li>\n</ul>\n<span style="font-size:14px\;"><span style="font-family:arial\;"><strong><u>IN STORE RAFFLE IDEAS!</u></strong></span></span>\n\n<ul>\n	<li><span style="font-size:14px\;"><span style="font-family:arial\;"><strong>Gift card</strong></span></span></li>\n	<li><span style="font-size:14px\;"><span style="font-family:arial\;"><strong>Gift basket</strong></span></span></li>\n	<li><span style="font-size:14px\;"><span style="font-family:arial\;"><strong>Complimentary services</strong></span></span></li>\n	<li><span style="font-size:14px\;"><span style="font-family:arial\;"><strong>Complimentary meals</strong></span></span></li>\n	<li><span style="font-size:14px\;"><span style="font-family:arial\;"><strong>Specific store giveaway&nbsp\;</strong></span></span></li>\n	<li><span style="font-size:14px\;"><span style="font-family:arial\;"><strong>RAFFLE PRIZE MINIMUM VALUE: $25</strong></span></span>&nbsp\;<span style="font-size:14px\;"><span style="font-family:arial\;"><strong>&#8203\;&amp\; up to what makes sense for your business </strong></span></span></li>\n</ul>\n
LOCATION:LOCAL MEMBER BUSINESSES of the Quiet Resorts which includes businesses of Bethany Beach\, Clarksville\, Dagsboro\, Fenwick Island\, Frankford\, Millville\, Ocean View\, Roxana\, Selbyville\, and South Bethany.
UID:e.2126.27130
SEQUENCE:3
DTSTAMP:20260420T165829Z
URL:http://business.thequietresorts.com/events/details/business-registration-shop-local-extravaganza-2023-27130
END:VEVENT

END:VCALENDAR
