BEGIN:VCALENDAR
VERSION:2.0
PRODID:-//ChamberMaster//Event Calendar 2.0//EN
METHOD:PUBLISH
X-PUBLISHED-TTL:P3D
REFRESH-INTERVAL:P3D
CALSCALE:GREGORIAN
BEGIN:VEVENT
DTSTART;VALUE=DATE:20231031
DTEND;VALUE=DATE:20231121
TRANSP:TRANSPARENT
X-MICROSOFT-CDO-ALLDAYEVENT:TRUE
SUMMARY:Business Registration - 2023 Weekend Wonderland in Bethany Beach
DESCRIPTION:OVERVIEW\n\nWeekend Wonderland is back in Bethany Beach on December 2nd\, 9th\, and 16th!  This Bethany Beach shop local event will encourage shoppers to visit businesses for holiday specials and in-store attractions like visits from Santa\, and an Elf on the Shelf Scavenger Hunt.  The town Trolley will also run during Weekend Wonderland\, taking visitors on a tour of decorations from the Coastal Christmas Showdown. \n\n\n\nIf you are interested in participating in the 2023 Weekend Wonderland Initiative taking place December 2nd\, 9th\, and 16th\, please register your business\, list if you would like to participate in the Elf on the Shelf Scavenger Hunt\, and provide any holiday specials or known activities by Monday\, November 20th. \n\n\n\nParticipating businesses\, and the activities/specials you list when registering\, have the opportunity to be featured in weekly Coastal Point and Ocean City Today newspaper advertisements throughout December at a discounted rate.  Contact Susan Mutz at 302-539-1788 or susan.mutz@coastalpoint.com for more information.\n\n\n\nIf you have any questions about Weekend Wonderland participation\, call Emily at 302-539-2100 ext. 114!\n\n\n\n\n\nDETAILS\n\n\nElf on the Shelf Scavenger Hunt during Weekend Wonderland\n\n\n	The Elf on the Shelf Scavenger Hunt will ONLY be conducted on Saturdays of Weekend Wonderland - December 2nd\, 9th\, and 16th.\n	Each participating business should have an Elf displayed somewhere in its establishment on December 2nd\, 9th\, and 16th.  \n	The Chamber will provide raffle tickets and flyers promoting Elf on the Shelf and participating businesses\, but will not provide the Elf.  If you need to order an Elf\, contact Lori Smyth at Tidepool Toys & Games at ssmyth@tidepooltoys.com. \n	The Chamber will distribute raffle tickets to each participating business\, moving away from previous bingo card formatting.  The more businesses a shopper visits to find the Elf\, the more entries they have in the raffle. \n	Both adult and child raffle prize winners for the Elf on the Shelf Scavenger Hunt will be announced weekly\, on Wednesday December 6th\, 13th\, and 20th.  A Chamber employee will collect raffle prizes from participating businesses the week of November 27th.\n	Raffle winners will be announced at a different participating business each week\, on December 6th\, 13th\, and 20th.\n\n \n\nCoastal Point Ads\n\nPlease contact Susan Mutz via e-mail at susan.mutz@coastalpoint.com\, or call 302-539-1788\, if you are interested in having your business featured in the Coastal Point and Ocean City Today advertisements for Weekend Wonderland.  Ad space must be reserved by November 22nd. \n\n\n\nIn-Store Attractions/Events\n\nDo you have a Holiday Happening that you would like publicized? Include the description and details in your business registration for Weekend Wonderland\, to have the activity included in event promotions!  \n\n\n\n \nLooking for other ways to promote your business this holiday season?  Don't forget about Bethany Beach's Coastal Christmas Showdown November 25th - December 2nd!\n\nThe Town of Bethany Beach is hosting the 2nd Annual Coastal Christmas Showdown\, November 25th - December 2nd.  Bethany Businesses and homeowners are invited to join in a friendly decorating competition by decking out their homes and storefronts!  Registration opens November 1st and closes November 24th. Find additional details here.
X-ALT-DESC;FMTTYPE=text/html:<div><span style="font-size:14px\;"><span style="font-family:arial\;"><strong style="font-family: arial\; font-size: 14px\;"><span style="color:#0000CD\;"><u><span style="font-size:16px\;">OVERVIEW</span></u></span><br />\nWeekend Wonderland is back in Bethany Beach on December 2nd\, 9th\, and 16th!&nbsp\; This Bethany Beach shop local event will encourage shoppers to visit businesses for holiday specials and in-store attractions like visits from Santa\, and an Elf on the Shelf Scavenger Hunt.&nbsp\; The town Trolley will also run during Weekend Wonderland\, taking visitors on a tour of decorations from the Coastal Christmas Showdown.&nbsp\;<br />\n<br />\nIf you are interested in participating in the 2023 Weekend Wonderland Initiative taking place December 2nd\, 9th\, and 16th\, please register your business\, list if you would like to participate in the Elf on the Shelf Scavenger Hunt\,&nbsp\;and provide&nbsp\;any holiday specials or known activities by Monday\, November 20th.&nbsp\;<br />\n<br />\nParticipating businesses\, and the activities/specials you list when registering\, have the opportunity to be featured in weekly Coastal Point and Ocean City Today newspaper advertisements throughout December at&nbsp\;a discounted rate.&nbsp\; Contact Susan Mutz at 302-539-1788 or susan.mutz@coastalpoint.com for more information.<br />\n<br />\nIf you have any questions about Weekend Wonderland participation\, call Emily at 302-539-2100 ext. 114!</strong></span></span><br />\n<br />\n<br />\n<span style="color:#0000CD\;"><span style="font-size:16px\;"><strong><u>DETAILS</u></strong></span></span></div>\n<br />\n<span style="font-size:14px\;"><span style="font-family:arial\;"><strong><u>Elf on the Shelf Scavenger Hunt during Weekend Wonderland</u></strong></span></span>\n\n<ul>\n	<li><span style="font-family:arial\;"><span style="font-size:14px\;">The Elf on the Shelf Scavenger Hunt&nbsp\;will ONLY be conducted on Saturdays of Weekend Wonderland - December 2nd\, 9th\, and 16th.</span></span></li>\n	<li><span style="font-size:14px\;"><span style="font-family:arial\;">Each participating business&nbsp\;should have an Elf displayed somewhere in its establishment on December 2nd\, 9th\, and 16th.&nbsp\; </span></span></li>\n	<li><span style="font-size:14px\;"><span style="font-family:arial\;">The Chamber will provide raffle tickets and flyers promoting Elf on the Shelf and participating businesses\, but will not provide the Elf.&nbsp\; </span></span><span style="font-family: arial\; font-size: 14px\;">If you need to order an Elf\, contact Lori Smyth at Tidepool Toys &amp\; Games at&nbsp\;</span><a href="mailto:ssmyth@tidepooltoys.com" style="font-family: arial\; font-size: 14px\;">ssmyth@tidepooltoys.com</a><span style="font-family: arial\; font-size: 14px\;">.&nbsp\;</span></li>\n	<li><span style="font-family: arial\; font-size: 14px\;">The Chamber will distribute raffle tickets to each participating business\, moving away from previous bingo card formatting.&nbsp\; The more businesses a shopper visits to find the Elf\, the more entries they have in the raffle.&nbsp\;</span></li>\n	<li><font face="arial"><span style="font-size: 14px\;">Both adult and child raffle prize winners for the Elf on the Shelf Scavenger Hunt&nbsp\;will be announced weekly\, on Wednesday December 6th\, 13th\, and 20th.&nbsp\; A Chamber employee will collect raffle prizes from participating businesses the week of November 27th.</span></font></li>\n	<li><font face="arial"><span style="font-size: 14px\;">Raffle winners will be announced at a different participating business each week\, on December 6th\, 13th\, and 20th.</span></font></li>\n</ul>\n&nbsp\;\n\n<div><span style="font-size:14px\;"><span style="font-family:arial\;"><u><strong style="color: rgb(51\, 51\, 51)\; font-family: arial\; font-size: 14px\; background-color: rgb(255\, 255\, 255)\;">Coastal Point Ads</strong></u><br />\nPlease contact Susan Mutz via e-mail at&nbsp\;susan.mutz@coastalpoint.com\, or call 302-539-1788\, if you are interested in having your business featured in the Coastal Point and Ocean City Today advertisements for Weekend Wonderland.&nbsp\; Ad space must be reserved by November 22nd.&nbsp\;<br />\n<br />\n<u><strong>In-Store Attractions/Events</strong></u><br />\nDo you have a&nbsp\;<em>Holiday Happening&nbsp\;</em>that you would like publicized? Include the description and details in your business registration for Weekend Wonderland\, to have the activity included in event promotions!&nbsp\;&nbsp\;</span></span><br />\n<br />\n&nbsp\;</div>\n<span style="font-size:14px\;"><span style="font-family:arial\;"><span style="color:#FF0000\;"><span background-color:="" font-size:="" trebuchet=""><strong>Looking for other ways to promote your business this holiday season?&nbsp\; Don&#39\;t forget about Bethany Beach&#39\;s&nbsp\;Coastal Christmas Showdown November 25th - December 2nd!</strong></span></span><br />\nThe Town of Bethany Beach is hosting the 2nd Annual Coastal Christmas Showdown\, November 25th - December 2nd.&nbsp\; Bethany Businesses and homeowners are invited to join in a friendly decorating competition by decking out their homes and storefronts!&nbsp\; Registration opens November 1st and closes November 24th. Find additional details <a href="https://business.bethany-fenwick.org/events/details/registration-open-bethany-beach-coastal-christmas-showdown-27032">here</a>.</span></span><br />\n&nbsp\;
LOCATION:Downtown Bethany Beach
UID:e.2126.27031
SEQUENCE:3
DTSTAMP:20260420T182434Z
URL:http://business.thequietresorts.com/events/details/business-registration-2023-weekend-wonderland-in-bethany-beach-27031
END:VEVENT

END:VCALENDAR
