BEGIN:VCALENDAR
VERSION:2.0
PRODID:-//ChamberMaster//Event Calendar 2.0//EN
METHOD:PUBLISH
X-PUBLISHED-TTL:P3D
REFRESH-INTERVAL:P3D
CALSCALE:GREGORIAN
BEGIN:VEVENT
DTSTART;VALUE=DATE:20221101
DTEND;VALUE=DATE:20221119
TRANSP:TRANSPARENT
X-MICROSOFT-CDO-ALLDAYEVENT:TRUE
SUMMARY:Business Opportunities- Weekend Wonderland in Bethany 2022
DESCRIPTION:Sign your business up to be a part of Weekend Wonderland in Bethany Events the first three Saturdays December - 3rd\, 10th\, 17th\n\n\n\nAll businesses who wish to participate in Elf on the Shelf and Cocoa Crawl\, the cut off day is November 18th and the cut off for Santa is also November 18th. \n\n \n\n\n\nElf on the Shelf Scavenger Hunt\n\n\n\nSign up to participate in the festive scavenger hunt through Bethany Beach. Each customer will be given a Bingo card filled with participating businesses. Each participating store will have an Elf displayed somewhere in its establishment. When the customer locates the Elf they will receive a stamp from you and/or your employees. When the customer hits Bingo they can submit their card for a chance to win a prize package. All winners will be announced on the Bandstand on Saturday\, December 17th at 6:00 pm. \n\n\n\nAll participants must: \n\n\n	Have an Elf displayed in their business for the first three Saturdays in December. \n	Donate two items for the prizes - one items for adults\, and one item for children ($5 minimum value each). Please drop off prizes at Tidepool Toys & Games in Bethany by November 18th.\n\n If you need to order an Elf\, contact Tidepool Toys & Games\, Lori Smyth ssmyth@tidepooltoys.com. The Bethany-Fenwick Area Chamber of Commerce will provide participating stores with bingo cards and a stamp.\n\n\n\n_________________________________________________________\n\nSanta\n\n\n\nContact events@thequietresorts.com to sign up to have Santa at your location. \n\n_______________________________________________________\n\n\n\nCocoa Crawl - Holiday Treat Trail\n\n\n\nEvery Saturday of December\, 3th\, 10th\, 17th from 5 p.m. - 7 p.m. \n\n\n\nParticipants will receive a Cocoa Crawl punch card from one of the participating business. Punch cards will include all participating businesses. \n\n \nBusinesses will provide goodies such as hot chocolate and/or snack goodies\, while shoppers take advantage of what your store has to offer. \n\n\n\nIndicate your participation as well as what you will be offering to guests.\n\n\n\n_______________________________________________________\n\n\n\nCoastal Point Ads\n\n\n\nPlease contact Susan Mutz via e-mail at susan.mutz@coastalpoint.com\, if you are interested in having your business featured in Coastal Point for Weekend Wonderland. \n \n\n \n\nRadio Ad\n\n\n\nForever Media will be hosting a live broadcast on December 17th. More details to come. \n\n______________________________________________________________________________________\n \n\nOverall Schedule of Events\n\n\n\nDo you have a Holiday Happening that you would like publicized? Contact events@thequietresorts.com by November 18th to have your event included on the printed schedule\, or on the event webpage. For your event to be included on the printed schedule\, it must be happening each Saturday at the same time.\n\n\n\nHosting a different event each Saturday but always the same time of day? We can include your event on the printed schedule as "Holiday Happenings at [Your Business Name]".
X-ALT-DESC;FMTTYPE=text/html:<div><strong style="font-family: arial\; font-size: 14px\;">Sign your business up to be a part of Weekend Wonderland in Bethany Events the first three Saturdays December - 3rd\, 10th\, 17th</strong></div>\n\n<div><br />\n<span style="font-size: 14px\;"><span style="font-family: arial\;"><span style="line-height: 20.8px\;"><strong><span style="color: rgb(0\, 0\, 102)\;">All businesses who wish to participate in Elf on the Shelf and Cocoa Crawl\, the cut off day is November 18th and the cut off for&nbsp\;Santa is also November 18th.&nbsp\;</span></strong></span></span></span><br />\n&nbsp\;\n<hr /></div>\n<br />\n<span style="font-size: 14px\;"><span style="font-family: arial\;"><strong>Elf on the Shelf Scavenger Hunt</strong><br />\n<br />\nSign up to participate in the festive scavenger hunt through Bethany Beach. Each customer will be given a Bingo card filled with participating businesses. Each participating store will have an Elf displayed somewhere in its establishment. When the customer locates the Elf they will receive a stamp from you and/or your employees. When the customer hits Bingo they can submit their card for a chance to win a prize package. All winners will be announced on the Bandstand on Saturday\, December 17th at 6:00 pm.&nbsp\;<br />\n<br />\n<strong>All participants must:&nbsp\;</strong></span></span>\n\n<ul>\n	<li><span style="font-size: 14px\;"><span style="font-family: arial\;">Have an Elf displayed in their business for the first three&nbsp\;Saturdays in December.&nbsp\;</span></span></li>\n	<li><span style="font-size: 14px\;"><span style="font-family: arial\;">Donate two&nbsp\;items for the prizes&nbsp\;- one items for adults\, and one item for children ($5 minimum value each). Please drop off prizes at Tidepool Toys &amp\; Games in Bethany by November 18th.</span></span></li>\n</ul>\n<span style="font-size:14px\;"><span style="font-family: arial\;"> If you need to order an Elf\, contact Tidepool Toys &amp\; Games\, Lori Smyth&nbsp\;<a href="mailto:ssmyth@tidepooltoys.com">ssmyth@tidepooltoys.com</a>.&nbsp\;The Bethany-Fenwick Area Chamber of Commerce will provide participating stores with bingo cards and a stamp.<br />\n<br />\n_________________________________________________________<br />\n<strong>Santa</strong></span></span><br />\n<br />\n<span style="font-size:14px\;"><span style="font-family: arial\;">Contact events@thequietresorts.com to sign up to have Santa at your location.&nbsp\;<br />\n_______________________________________________________<br />\n<br />\n<strong>Cocoa Crawl - Holiday Treat Trail</strong></span><br />\n<br />\nEvery Saturday of December\, 3th\, 10th\, 17th from 5 p.m. - 7 p.m.&nbsp\;<br />\n<br />\n<span style="background-color: rgb(255\, 255\, 255)\;"><font color="#333333">Participants will receive&nbsp\;a Cocoa Crawl punch card from one of the participating&nbsp\;business.&nbsp\;</font></span>Punch cards will include all participating businesses.&nbsp\;</span><br />\n&nbsp\;\n<div><span style="font-size:14px\;"><span style="background-color: rgb(255\, 255\, 255)\;"><font color="#333333">Businesses will provide&nbsp\;goodies such as hot chocolate and/or snack goodies\, while shoppers take advantage of what your store has to offer.&nbsp\;<br />\n<br />\nIndicate your participation as well as what you will be offering to guests.</font></span></span><br />\n<br />\n<span style="color: rgb(51\, 51\, 51)\; font-family: arial\; font-size: 14px\; background-color: rgb(255\, 255\, 255)\;">_______________________________________________________</span><br style="color: rgb(51\, 51\, 51)\; font-family: arial\; font-size: 14px\; background-color: rgb(255\, 255\, 255)\;" />\n<br style="color: rgb(51\, 51\, 51)\; font-family: arial\; font-size: 14px\; background-color: rgb(255\, 255\, 255)\;" />\n<strong style="color: rgb(51\, 51\, 51)\; font-family: arial\; font-size: 14px\; background-color: rgb(255\, 255\, 255)\;">Coastal Point Ads</strong><br />\n<br />\nPlease contact Susan Mutz via e-mail at&nbsp\;susan.mutz@coastalpoint.com\, if you are interested in having your business featured in Coastal Point for Weekend Wonderland.&nbsp\;</div>\n&nbsp\;\n\n<hr /><span style="font-size:14px\;"><span style="font-family: arial\;">&nbsp\;</span></span>\n\n<div font-size:="" style="color: rgb(51\, 51\, 51)\; font-family: sans-serif\, Arial\, Verdana\, " trebuchet=""><strong style="font-family: arial\; font-size: 14px\; background-color: rgb(255\, 255\, 255)\;">Radio Ad</strong><br />\n<br />\n<span style="font-size:14px\;">Forever Media will be hosting a live broadcast on December 17th. More details to come.</span>&nbsp\;<br />\n______________________________________________________________________________________</div>\n<span background-color:="" font-size:="" style="color: rgb(51\, 51\, 51)\; font-family: sans-serif\, Arial\, Verdana\, " trebuchet="">&nbsp\;</span><br />\n<span style="font-size:14px\;"><span style="font-family: arial\;"><strong>Overall Schedule of Events</strong><br />\n<br />\nDo you have a&nbsp\;<em>Holiday Happening&nbsp\;</em>that you would like publicized? Contact <a href="mailto:events@bethany-fenwick.org">events@t</a>hequietresorts.com&nbsp\;by&nbsp\;<strong>November 18th&nbsp\;</strong>to have your event included on the printed schedule\, or on the event webpage.&nbsp\;For your event to be included on the printed schedule\, it must be happening each Saturday at the same time.<br />\n<br />\nHosting a different event each Saturday but always the same time of day? We can include your event on the printed schedule as &quot\;Holiday Happenings at [<em>Your Business Name]&quot\;.&nbsp\;</em></span></span><br />\n<br />\n&nbsp\;\n<hr /><br />\n<br />\n<br />\n<br />\n<br />\n&nbsp\;
LOCATION:Downtown Bethany Beach
UID:e.2126.24777
SEQUENCE:3
DTSTAMP:20260421T142301Z
URL:http://business.thequietresorts.com/events/details/business-opportunities-weekend-wonderland-in-bethany-2022-24777
END:VEVENT

END:VCALENDAR
