BEGIN:VCALENDAR
VERSION:2.0
PRODID:-//ChamberMaster//Event Calendar 2.0//EN
METHOD:PUBLISH
X-PUBLISHED-TTL:P3D
REFRESH-INTERVAL:P3D
CALSCALE:GREGORIAN
BEGIN:VEVENT
DTSTART:20230404T223000Z
DTEND:20230405T000000Z
X-MICROSOFT-CDO-ALLDAYEVENT:FALSE
SUMMARY:Business Insurance Overview for Small Business Owners - Live Free Webinar
DESCRIPTION:SCORE Delaware is offering a free webinar to educate new small business owners on the importance of considering the proper business insurance coverages.  Traditionally\, business insurance is the last thing new business owners think about.  The webinar will address insurance coverages that are required by states\, and coverages that should be in place to protect the owners time and investment.
X-ALT-DESC;FMTTYPE=text/html:SCORE Delaware is offering a free webinar to educate new small business owners on the importance of considering the proper business insurance coverages.&nbsp\; Traditionally\, business insurance is the last thing new business owners think about.&nbsp\; The webinar will address insurance coverages that are required by states\, and coverages that should be in place to protect the owners time and investment.&nbsp\;&nbsp\;
LOCATION:Free Webinar Register Here
UID:e.2126.25317
SEQUENCE:3
DTSTAMP:20260421T041408Z
URL:http://business.thequietresorts.com/events/details/business-insurance-overview-for-small-business-owners-live-free-webinar-25317
END:VEVENT

END:VCALENDAR
