BEGIN:VCALENDAR
VERSION:2.0
PRODID:-//ChamberMaster//Event Calendar 2.0//EN
METHOD:PUBLISH
X-PUBLISHED-TTL:P3D
REFRESH-INTERVAL:P3D
CALSCALE:GREGORIAN
BEGIN:VEVENT
DTSTART:20220623T203000Z
DTEND:20220623T223000Z
X-MICROSOFT-CDO-ALLDAYEVENT:FALSE
SUMMARY:Business After Hours Summer Social- Hammerheads Dockside
DESCRIPTION:CHANGE OF DATE!!!\n\n\n\nJoin us on June 23rd at Hammerheads Dockside for the Business After Hours - Summer Social event.  The Chamber Business After Hours is a fantastic way to promote your business through networking with fellow Chamber members. Don't forget to bring your business cards with you and for a little extra exposure bring a door prize too.\n\n\n\nAs a courtesy to our host\, RSVP is highly encouraged.\n\n\n\nStay Afterwards for Dinner!\n\n\n\nInterested in hosting a networking event\, or learning how you can become a member spotlight at future Business After Hours? \n\n\n\nContact membership@thequietresorts.com or 302-539-2100.
X-ALT-DESC;FMTTYPE=text/html:<br />\n<span style="font-family: arial\, sans-serif\; font-size: 10.5pt\;"><strong><span style="color:#FF0000\;">CHANGE OF DATE!!!</span></strong><br />\n<br />\nJoin us on <span style="color:#FF0000\;"><strong>June 23rd</strong></span><span style="color:#FF0000\;"> </span>at <b><i>Hammerheads Dockside</i></b>&nbsp\;for the Business After Hours - Summer Social event.&nbsp\; The Chamber Business After Hours is a fantastic way to promote your business through networking with fellow Chamber members. Don&#39\;t forget to bring your business cards with you and for a little extra exposure bring a door prize too.<br />\n<br />\nAs a courtesy to our host\, RSVP is highly encouraged.<br />\n<br />\n<strong>Stay Afterwards for Dinner!</strong></span><br />\n<br />\n<strong><span style="font-family: arial\, sans-serif\;"><span style="font-size: 10.5pt\;">Interested in hosting a networking event\, or learning how you can become a member spotlight at future Business After Hours?&nbsp\;</span></span></strong><br />\n<br />\n<span style="font-family: arial\, sans-serif\;"><span style="font-size: 10.5pt\;">Contact membership@thequietresorts.com or 302-539-2100.</span></span>
LOCATION:Hammerheads Dockside 39415 Inlet Rd. Rehoboth Beach\, DE http://www.hammerheadsde.com
UID:e.2126.23616
SEQUENCE:3
DTSTAMP:20260421T223404Z
URL:http://business.thequietresorts.com/events/details/business-after-hours-summer-social-hammerheads-dockside-23616
END:VEVENT

END:VCALENDAR
