BEGIN:VCALENDAR
VERSION:2.0
PRODID:-//ChamberMaster//Event Calendar 2.0//EN
METHOD:PUBLISH
X-PUBLISHED-TTL:P3D
REFRESH-INTERVAL:P3D
CALSCALE:GREGORIAN
BEGIN:VEVENT
DTSTART:20230125T213000Z
DTEND:20230125T233000Z
X-MICROSOFT-CDO-ALLDAYEVENT:FALSE
SUMMARY:Business After Hours: Sea Colony Recreational Association
DESCRIPTION:Come join the Chamber for some great networking. \n\n			Join the Chamber membership for January's  Business After Hours at Sea Colony's Recreation Associations - Sea Colony Fitness Center!\n\n			\n\n			\n\n			Make sure to bring plenty of business cards to the Chamber's most\n\n			popular networking event. Be sure to bring at least one for the\n\n			evening's door prizes. As always\, all are welcome to bring a door prize\n\n			to promote their business. Please RSVP for the host by January 24th. \n\n			\n\n			Beebe Medical Foundation will be the beneficiary of the event.\n\n			\n\n			Interested in sharing information about a promotion\, new initiative or\n\n			other information about your business?\n\n			Contact Lauren Weaver 302-539-2100 ext. 118 to reserve a\n\n			spotlight table today!
X-ALT-DESC;FMTTYPE=text/html:<table align="center" style="width: 600px\;">\n	<tbody>\n		<tr>\n			<td colspan="3"><span style="font-size: 14px\;"><span style="font-family: arial\;">Come join the Chamber for some great networking.&nbsp\;</span></span><br />\n			<span style="color:#25201A\;"><span style="font-family:arial\,sans-serif\;"><span style="font-size:10.5pt\;">Join the Chamber membership for January&#39\;s&nbsp\; Business After Hours at Sea Colony&#39\;s Recreation Associations - Sea Colony Fitness Center!</span></span></span><br />\n			<br />\n			<br />\n			<span style="font-size: 14px\;"><span style="font-family: arial\;">Make sure to&nbsp\;bring plenty of business cards to the Chamber&#39\;s most<br />\n			popular networking event. Be sure to&nbsp\;bring at least one for the<br />\n			evening&#39\;s door prizes. As always\, all are welcome to bring a door prize<br />\n			to promote their&nbsp\;business. Please RSVP for the host by January 24th.&nbsp\;<br />\n			<br />\n			Beebe Medical Foundation will be the beneficiary of the event.<br />\n			<br />\n			Interested in sharing information about a promotion\, new initiative or<br />\n			other information about your business?<br />\n			Contact&nbsp\;Lauren Weaver&nbsp\;302-539-2100 ext. 118&nbsp\;to reserve a<br />\n			spotlight table today! </span></span></td>\n		</tr>\n	</tbody>\n</table>\n
LOCATION:38994 West Way Dr\, Bethany Beach\, DE 19930
UID:e.2126.25074
SEQUENCE:3
DTSTAMP:20260421T093419Z
URL:http://business.thequietresorts.com/events/details/business-after-hours-sea-colony-recreational-association-25074
END:VEVENT

END:VCALENDAR
