BEGIN:VCALENDAR
VERSION:2.0
PRODID:-//ChamberMaster//Event Calendar 2.0//EN
METHOD:PUBLISH
X-PUBLISHED-TTL:P3D
REFRESH-INTERVAL:P3D
CALSCALE:GREGORIAN
BEGIN:VEVENT
DTSTART:20230323T210000Z
DTEND:20230323T233000Z
X-MICROSOFT-CDO-ALLDAYEVENT:FALSE
SUMMARY:Business After Hours\, Ribbon Cutting\, and Magic Show @ Dickens Parlour Theatre
DESCRIPTION:Event Invitation - Business After Hours and Ribbon Cutting\n\nJoin us on March 23rd at Dickens Parlour Theatre for a Business After Hours\, Ribbon Cutting\, and Magic Show to celebrate the grand opening of the new Dickens Parlour Theatre! The Chamber Business After Hours is a fantastic way to promote your business through networking with fellow Chamber members. Don't forget to bring your business cards with you and for a little extra exposure bring a door prize too.  Delicious food and cash bar will be provided by Good Earth Market for this event.  \n\n\n\nFree Magic Show for Chamber Members\n\nChamber Members are invited to RSVP for a free magic show by Anthony Salazar after the ribbon is cut at Dickens Parlour Theatre! Seats are limited\, so RSVP today.\n\n\n\n\n\n50/50 Raffle Beneficiary: Justin's Beach House\n\n\n\n\n\nInterested in hosting a networking event\, or learning how you can become a member spotlight at future Business After Hours? \n\nContact membership@thequietresorts.com or 302-539-2100.
X-ALT-DESC;FMTTYPE=text/html:<span style="font-family: arial\, sans-serif\; font-size: 10.5pt\;"><u><strong>Event Invitation - Business After Hours and Ribbon Cutting</strong></u><br />\nJoin us on March 23rd at <b>Dickens Parlour Theatre</b>&nbsp\;for a Business After Hours\, Ribbon Cutting\, and Magic Show to celebrate the grand opening of the new Dickens Parlour Theatre! The Chamber Business After Hours is a fantastic way to promote your business through networking with fellow Chamber members. Don&#39\;t forget to bring your business cards with you and for a little extra exposure bring a door prize too.&nbsp\; Delicious food and cash bar will be provided by Good Earth Market for this event.&nbsp\;&nbsp\;<br />\n<br />\n<b><u>Free Magic Show for Chamber Members</u></b><br />\nChamber Members are invited to RSVP for a free magic show by Anthony Salazar after the ribbon is cut at Dickens Parlour Theatre! Seats are limited\, so RSVP today.<br />\n<br />\n<br />\n<span style="font-size:14px\;">50/50 Raffle Beneficiary: Justin&#39\;s Beach House</span></span><br />\n<br />\n<br />\n<strong><span style="font-family: arial\, sans-serif\;"><span style="font-size: 10.5pt\;">Interested in hosting a networking event\, or learning how you can become a member spotlight at future Business After Hours?&nbsp\;</span></span></strong><br />\n<span style="font-family: arial\, sans-serif\;"><span style="font-size: 10.5pt\;">Contact membership@thequietresorts.com or 302-539-2100.</span></span>
LOCATION:Dickens Parlour Theatre 31810 Good Earth Lane Ocean View\, DE\, 19970
UID:e.2126.25186
SEQUENCE:3
DTSTAMP:20260421T060357Z
URL:http://business.thequietresorts.com/events/details/business-after-hours-ribbon-cutting-and-magic-show-dickens-parlour-theatre-25186
END:VEVENT

END:VCALENDAR
