BEGIN:VCALENDAR
VERSION:2.0
PRODID:-//ChamberMaster//Event Calendar 2.0//EN
METHOD:PUBLISH
X-PUBLISHED-TTL:P3D
REFRESH-INTERVAL:P3D
CALSCALE:GREGORIAN
BEGIN:VEVENT
DTSTART:20211027T203000Z
DTEND:20211027T223000Z
X-MICROSOFT-CDO-ALLDAYEVENT:FALSE
SUMMARY:Business After Hours: October 2021 - Harvest Tide Steakhouse & Events Venue
DESCRIPTION:Join us  for  Business After Hours at the Harvest Tide Steakhouse & Events Venue! To kick off the night\,  we will welcome our new Chamber member\, Harvest Tide Steakhouse & Event Space with with a ribbon cutting at 4:30pm !  Then join us as to relax with a cold beverage\, and sample culinary delights in a beautiful newly renovated setting with your Chamber members. Whether you have five minutes or two hours in your schedule\, drop in and say hi as we will also be\, highlighting participating businesses who joined the Chamber in 2021 year. \n\n\n\nGuests are encouraged to bring a door prize to help promote your business. Make sure to bring a business card for a chance to win.\n\n\n\n50/50 Raffle Beneficiary\n\nDelaware Breast Cancer Collation \n\n\n\nStay afterwards for dinner!\n\nHarvest Tide Steakhouse will be offering 20% off your meal for all those who attend.\n\n\n\nHarvest Tide Raffle\n\nFor those who bring a guest to October's Business After Hours will be put in a raffle for a $25 gift card to Harvest Tide Steakhouse. \nMenu\n\n\n\nCorn tortilla chip dipping station with salsa de molcajete \n\nQueso Fundido and Fresco Guacamole \n\n\n\nFish Taco Station \n\nBlackened Mahi Mahi\, Cabbage Jicama  Slaw\, Crispy Avocado\, Chipotle Mayo\, Pickled Onions\, Cilantro \n\nHand Carved Filet or Beef\, Offered on Crostini \n\n\n\nDesserts \n\n10 Layer Chocolate Cake\n\nTres Leches \n\n \n\n\n All safety protocols will be followed at the event to ensure a fun and safe night. Check out what Harvest Tide Steakhouse and Events Venue has to offer!\n\n\n\nAs a courtesy to our host\, a RSVP is highly encouraged by Monday\, October 25th.
X-ALT-DESC;FMTTYPE=text/html:<span style="font-family: arial\;"><span style="font-size: 14px\;">Join us&nbsp\; for&nbsp\;&nbsp\;<strong>Business After Hours&nbsp\;</strong>at the <b><i>Harvest Tide Steakhouse &amp\; Events Venue</i></b>! To kick off the night\,&nbsp\; we will welcome our new Chamber member\, Harvest Tide Steakhouse &amp\; Event Space with with a ribbon cutting at 4:30pm !&nbsp\; Then join us as to relax with a cold beverage\, and sample culinary delights in a beautiful newly renovated setting with your Chamber members. W</span></span><span style="color: rgb(51\, 51\, 51)\; font-family: arial\; font-size: 14px\; background-color: rgb(255\, 255\, 255)\;">hether you have five minutes or two hours in your schedule\, drop in and say hi as<span style="font-family: arial\;"><span style="font-size: 14px\;">&nbsp\;w</span></span>e will also be\, highlighting participating businesses who joined the Chamber in 2021 year.&nbsp\;</span><br />\n<br style="color: rgb(51\, 51\, 51)\; font-family: arial\; font-size: 14px\; background-color: rgb(255\, 255\, 255)\;" />\n<span style="color: rgb(51\, 51\, 51)\; font-family: arial\; font-size: 14px\; background-color: rgb(255\, 255\, 255)\;">Guests are encouraged to bring a door prize to help promote your business. Make sure to bring a business card for a chance to win.</span><br />\n<br />\n<strong style="color: rgb(51\, 51\, 51)\; font-family: arial\; font-size: 14px\; background-color: rgb(255\, 255\, 255)\;">50/50 Raffle Beneficiary</strong><br style="color: rgb(51\, 51\, 51)\; font-family: arial\; font-size: 14px\; background-color: rgb(255\, 255\, 255)\;" />\n<font color="#333333" face="arial"><span style="font-size: 14px\; background-color: rgb(255\, 255\, 255)\;">Delaware Breast Cancer Collation&nbsp\;</span></font><br />\n<br />\n<strong style="color: rgb(51\, 51\, 51)\; font-family: arial\; font-size: 14px\; background-color: rgb(255\, 255\, 255)\;">Stay afterwards for dinner!</strong><br style="color: rgb(51\, 51\, 51)\; font-family: arial\; font-size: 14px\; background-color: rgb(255\, 255\, 255)\;" />\n<font color="#333333" face="arial"><span style="font-size: 14px\; background-color: rgb(255\, 255\, 255)\;">Harvest Tide Steakhouse will be offering 20% off your meal for all those who attend.<br />\n<br />\n<strong>Harvest Tide Raffle</strong><br />\nFor those who bring a guest to October&#39\;s Business After Hours will be put in a raffle for a $25 gift card to Harvest Tide Steakhouse.&nbsp\;</span></font>\n<div style="text-align: center\;"><span style="font-family: arial\;"><span style="font-size: 14px\;"><strong>Menu</strong><br />\n<br />\nCorn tortilla chip dipping station with salsa de molcajete&nbsp\;<br />\nQueso Fundido and Fresco Guacamole&nbsp\;<br />\n<br />\nFish Taco Station&nbsp\;<br />\nBlackened Mahi Mahi\, Cabbage Jicama&nbsp\; Slaw\, Crispy Avocado\, Chipotle Mayo\, Pickled Onions\, Cilantro&nbsp\;<br />\nHand Carved Filet or Beef\, Offered&nbsp\;on Crostini&nbsp\;<br />\n<br />\n<strong>Desserts&nbsp\;</strong><br />\n10 Layer Chocolate Cake<br />\nTres Leches&nbsp\;</span></span><br />\n&nbsp\;</div>\n<br />\n<span style="font-family: arial\;"><span style="font-size: 14px\;">&nbsp\;</span></span><span style="font-family: arial\;"><span style="font-size: 14px\;">All safety protocols will be followed at the event to ensure a fun and safe night. Check out what Harvest Tide Steakhouse and Events Venue<em><strong>&nbsp\;</strong></em>has to offer!<br />\n<br />\nAs a courtesy to our host\, a RSVP is highly encouraged by Monday\, October 25th.</span></span><br />\n&nbsp\;
LOCATION:Harvest Tide Steakhouse & Events Venue 98 Garfield Parkway Bethany Beach\, DE 19930
UID:e.2126.22971
SEQUENCE:3
DTSTAMP:20260424T121155Z
URL:http://business.thequietresorts.com/events/details/business-after-hours-october-2021-harvest-tide-steakhouse-events-venue-22971
END:VEVENT

END:VCALENDAR
