BEGIN:VCALENDAR
VERSION:2.0
PRODID:-//ChamberMaster//Event Calendar 2.0//EN
METHOD:PUBLISH
X-PUBLISHED-TTL:P3D
REFRESH-INTERVAL:P3D
CALSCALE:GREGORIAN
BEGIN:VEVENT
DTSTART:20210526T210000Z
DTEND:20210526T230000Z
X-MICROSOFT-CDO-ALLDAYEVENT:FALSE
SUMMARY:Business After Hours: May 2021 - Joshua M. Freeman Foundation
DESCRIPTION:After 11 long months\, join us outdoors for the Business After Hours at the Joshua M. Freeman Foundation new offices.  We have missed in-person networking events and are excited to get back  to in-person networking. Surround yourself with the Chamber Community\, relax with a cold beverage\, and sample culinary delights  in a beautiful outdoor setting. Bring a business acquaintance if you'd like.\n\n\n\nThe Chamber will also be hosting a check presentation for the following organizations as our event beneficiaries for the Fire & Ice Festival and the Ocean to Bay Bike Tour\n\n	Nemours duPont Pediatrics & SeniorCare\, Sussex Campus\n	Contractors for a Cause\n	Justin W. Jennings Foundation\n	Delaware Center for the Inland Bays\n	The Quiet Resorts Charitable Foundation\n\n\n\nAll safety protocols will be followed at the event to ensure a fun and safe night. Bring a mask to check out what Joshua M. Freeman Foundation & Freeman Arts Pavillion   has to offer!\n\n\n\nAs a courtesy to our host\, a RSVP is highly encouraged by Monday\, May 24.\n\n\n\nGuests are encouraged to bring a door prize to help promote your business. Make sure to bring a business card for a chance to win.\n\n\n\n50/50 Raffle Beneficiary: The Joshua M. Freeman Foundation Arts in Education program
X-ALT-DESC;FMTTYPE=text/html:<span style="font-family: arial\;"><span style="font-size: 14px\;">After 11 long months\, join us outdoors for the <strong>Business After Hours&nbsp\;</strong>at the&nbsp\;<em><strong>Joshua M. Freeman Foundation</strong></em> new offices.&nbsp\;&nbsp\;We have missed in-person networking events and are excited to get back&nbsp\; to in-person networking. Surround yourself with the Chamber Community\, relax with a cold beverage\, and sample culinary delights&nbsp\; in a beautiful outdoor setting. Bring a business acquaintance if you&#39\;d like.<br />\n<br />\nThe Chamber will also be hosting a check presentation for the following organizations as our event beneficiaries for the Fire &amp\; Ice Festival and the Ocean to Bay Bike Tour</span></span>\n<ul>\n	<li><span style="font-family: arial\;"><span style="font-size: 14px\;">Nemours duPont Pediatrics &amp\; SeniorCare\, Sussex Campus</span></span></li>\n	<li><span style="font-family: arial\;"><span style="font-size: 14px\;">Contractors for a Cause</span></span></li>\n	<li><span style="font-family: arial\;"><span style="font-size: 14px\;">Justin W. Jennings Foundation</span></span></li>\n	<li><span style="font-family: arial\;"><span style="font-size: 14px\;">Delaware Center for the Inland Bays</span></span></li>\n	<li><span style="font-family: arial\;"><span style="font-size: 14px\;">The Quiet Resorts Charitable Foundation</span></span></li>\n</ul>\n<br />\n<span style="font-family: arial\;"><span style="font-size: 14px\;">All safety protocols will be followed at the event to ensure a fun and safe night. Bring a mask to check out what <em><strong>Joshua M. Freeman Foundation &amp\; Freeman Arts Pavillion&nbsp\;&nbsp\;</strong></em> has to offer!<br />\n<br />\nAs a courtesy to our host\, a RSVP is highly encouraged by Monday\, May 24.<br />\n<br />\nGuests are encouraged to bring a door prize to help promote your business. Make sure to bring a business card for a chance to win.<br />\n<br />\n50/50 Raffle Beneficiary: The Joshua M. Freeman Foundation Arts in Education program</span></span>
LOCATION:Joshua M. Freeman Foundation Offices 31255 Americana Parkway Selbyville\, DE 19975
UID:e.2126.21980
SEQUENCE:3
DTSTAMP:20260424T204159Z
URL:http://business.thequietresorts.com/events/details/business-after-hours-may-2021-joshua-m-freeman-foundation-21980
END:VEVENT

END:VCALENDAR
