BEGIN:VCALENDAR
VERSION:2.0
PRODID:-//ChamberMaster//Event Calendar 2.0//EN
METHOD:PUBLISH
X-PUBLISHED-TTL:P3D
REFRESH-INTERVAL:P3D
CALSCALE:GREGORIAN
BEGIN:VEVENT
DTSTART:20220323T203000Z
DTEND:20220323T223000Z
X-MICROSOFT-CDO-ALLDAYEVENT:FALSE
SUMMARY:Business After Hours March 2022 at Harpoon Hanna's
DESCRIPTION:Join us on March 23rd at Harpoon Hanna's for the Business After Hours event.  The Chamber Business After Hours is a fantastic way to promote your business through networking with fellow Chamber members. Don't forget to bring your business cards with you and for a little extra exposure bring a door prize too.\n\n\n\nAs a courtesy to our host\, RSVP is highly encouraged.\n\n\n\nStay Afterwards for Dinner!\n\nStay for dinner after and enjoy Harpoon Hanna's Slow Roasted Prime Rib Special\n\n\n\n12 oz Queen Cut $19.99  or 16 oz King Cut for $26.99\n\nEach cut served with one side \n\n\n\n50/50 Raffle Beneficiary:  Delaware Center for the Inland Bays\n\n\n\nCheck out our Member Spotlight Tables!\n\n	Beebe Healthcare \n	Delaware Motion Pictures \n\n\n\nInterested in hosting a networking event\, or learning how you can become a member spotlight at future Business After Hours? \n\n\n\nContact membership@thequietresorts.com or 302-539-2100.
X-ALT-DESC;FMTTYPE=text/html:<span style="font-family: arial\, sans-serif\; font-size: 10.5pt\;">Join us on March 23rd at <b><i>Harpoon Hanna's</i></b>&nbsp\;for the Business After Hours event.&nbsp\; The Chamber Business After Hours is a fantastic way to promote your business through networking with fellow Chamber members. Don't forget to bring your business cards with you and for a little extra exposure bring a door prize too.<br>\n<br>\nAs a courtesy to our host\, RSVP is highly encouraged.<br>\n<br>\n<strong>Stay Afterwards for Dinner!</strong><br>\n<span style="color:#0000CD\;"><strong><em>Stay for dinner after and enjoy Harpoon Hanna's Slow Roasted Prime Rib Special<br>\n<br>\n12 oz Queen Cut $19.99&nbsp\; or 16 oz King Cut for $26.99<br>\nEach cut served with one side&nbsp\;</em></strong></span></span><br>\n<br>\n<span style="font-family: arial\, sans-serif\; font-size: 10.5pt\;"><strong>50/50 Raffle Beneficiary:&nbsp\; </strong>Delaware Center for the Inland Bays<br>\n<br>\n<strong>Check out our Member Spotlight Tables!</strong></span>\n<ul>\n	<li><span style="font-family: arial\, sans-serif\; font-size: 10.5pt\;">Beebe Healthcare&nbsp\;</span></li>\n	<li><span style="font-family: arial\, sans-serif\; font-size: 10.5pt\;">Delaware Motion Pictures&nbsp\;</span></li>\n</ul>\n<br>\n<strong><span style="font-family: arial\, sans-serif\;"><span style="font-size: 10.5pt\;">Interested in hosting a networking event\, or learning how you can become a member spotlight at future Business After Hours?&nbsp\;</span></span></strong><br>\n<br>\n<span style="font-family: arial\, sans-serif\;"><span style="font-size: 10.5pt\;">Contact membership@thequietresorts.com or 302-539-2100.</span></span><br>\n<br>\n&nbsp\;
LOCATION:Harpoon Hanna's 39064 Harpoon Road\, Rt. 54 & The Bay Fenwick Island\, Delaware 19944
UID:e.2126.23511
SEQUENCE:3
DTSTAMP:20260424T041543Z
URL:http://business.thequietresorts.com/events/details/business-after-hours-march-2022-at-harpoon-hannah-s-23511
END:VEVENT

END:VCALENDAR
