BEGIN:VCALENDAR
VERSION:2.0
PRODID:-//ChamberMaster//Event Calendar 2.0//EN
METHOD:PUBLISH
X-PUBLISHED-TTL:P3D
REFRESH-INTERVAL:P3D
CALSCALE:GREGORIAN
BEGIN:VEVENT
DTSTART:20210623T203000Z
DTEND:20210623T223000Z
X-MICROSOFT-CDO-ALLDAYEVENT:FALSE
SUMMARY:Business After Hours: June 2021 Summer Social - Good Earth Market
DESCRIPTION:Join us for the Business After Hours Summer Social at Good Earth Market. Surround yourself with the Chamber Community\, relax with a cold beverage\, and sample culinary delights from the menu in a beautiful outdoor setting. Bring a business acquaintance.\n\n\n\n*The Summer Social is not a typical Business After Hours. There will be no door prizes and no 50/50 raffle*\n\n\n\nAll safety protocols will be followed at the event to ensure a fun and safe night.\n\n\n\nAs a courtesy to our host\, a RSVP is highly encouraged.
X-ALT-DESC;FMTTYPE=text/html:<span style="font-family: arial\;"><span style="font-size: 14px\;">Join us for the <strong>Business After Hours Summer Social</strong> at <em><strong>Good Earth Market</strong></em>. Surround yourself with the Chamber Community\, relax with a cold beverage\, and sample culinary delights from the menu in a beautiful outdoor setting. Bring a business acquaintance.<br />\n<br />\n<strong><em>*The Summer Social is not a typical Business After Hours. There will be no door prizes and no 50/50 raffle*</em></strong></span></span><br />\n<br />\n<span style="font-family: arial\;"><span style="font-size: 14px\;">All safety protocols will be followed at the event to ensure a fun and safe night.<br />\n<br />\nAs a courtesy to our host\, a RSVP is highly encouraged.</span></span>
LOCATION:Good Earth Market 31806 Good Earth Ln. Ocean View\, DE 19970
UID:e.2126.22015
SEQUENCE:3
DTSTAMP:20260424T192300Z
URL:http://business.thequietresorts.com/events/details/business-after-hours-june-2021-summer-social-good-earth-market-22015
END:VEVENT

END:VCALENDAR
