BEGIN:VCALENDAR
VERSION:2.0
PRODID:-//ChamberMaster//Event Calendar 2.0//EN
METHOD:PUBLISH
X-PUBLISHED-TTL:P3D
REFRESH-INTERVAL:P3D
CALSCALE:GREGORIAN
BEGIN:VEVENT
DTSTART:20200617T203000Z
DTEND:20200617T223000Z
X-MICROSOFT-CDO-ALLDAYEVENT:FALSE
SUMMARY:Business After Hours: June 2020 Summer Social - Good Earth Market
DESCRIPTION:Due to the weather and the outdoor nature of the event\, the Business After Hours Summer Social is postponed until Wednesday\, June 24 from 4:30 pm - 6:30 pm. To register for the rain date\, please click here.\n\n\n\nJoin us for the Business After Hours Summer Social at Good Earth Market. We have missed in-person networking events and are excited to get back in the groove of things. Surround yourself with the Chamber community\, relax with a cold beverage\, and sample culinary delights from the menu in a beautiful outdoor setting. Bring a business acquaintance if you'd like. Music will be provided by DJ Bump\, sponsored by Christine McCoy - Realtor\, Coldwell Banker and the Bethany-Fenwick Area Chamber of Commerce.\n\n\n\nRain Date: Due to the weather and the outdoor nature of the event\, the Business After Hours Summer Social will be postponed to Wednesday\, June 24 from 4:30 pm - 6:30 pm.\n\n\n\nAll safety protocols will be followed at the event to ensure a fun and safe night. Bring a mask to check out what Good Earth Market has to offer!\n\n\n\nAs a courtesy to our host\, a RSVP is highly encouraged.
X-ALT-DESC;FMTTYPE=text/html:<span style="font-size: 14px\;"><span style="font-family: arial\;"><span style="color: rgb(255\, 0\, 0)\;">Due to the weather and the outdoor nature of the event\, the Business After Hours Summer Social is postponed until Wednesday\, June 24 from&nbsp\;4:30 pm - 6:30 pm. To register for the rain date\, please <strong><a href="http://business.bethany-fenwick.org/events/details/business-after-hours-june-2020-summer-social-rain-date-good-earth-market-21672" target="_blank">click here</a></strong>.</span><br />\n<br />\n<span>Join us for the <strong>Business After Hours Summer Social</strong> at <strong><em>Good Earth Market</em></strong>. We have missed in-person networking events and are excited to get back in the groove of things. Surround yourself with the Chamber community\, relax with a cold beverage\, and sample culinary delights from the menu in a beautiful outdoor setting. Bring a business acquaintance if you&#39\;d like. Music will be provided by DJ Bump\, sponsored by Christine McCoy - Realtor\, Coldwell Banker and the Bethany-Fenwick Area Chamber of Commerce.<br />\n<br />\nRain Date: Due to the weather and the outdoor nature of the event\, the Business After Hours Summer Social will be postponed to Wednesday\, June 24 from 4:30 pm - 6:30 pm.<br />\n<br />\nAll safety protocols will be followed&nbsp\;at the event to ensure a fun and safe night. Bring a mask to check out what&nbsp\;<em><strong>Good Earth Market</strong></em> has to offer!</span></span></span><br />\n<br />\n<span style="font-size: 14px\;"><span style="font-family: arial\;"><span>As a courtesy to our host\, a RSVP is highly encouraged.</span></span></span>
LOCATION:Good Earth Market 31806 Good Earth Ln. Ocean View\, DE 19970
UID:e.2126.20276
SEQUENCE:3
DTSTAMP:20260425T181038Z
URL:http://business.thequietresorts.com/events/details/business-after-hours-june-2020-summer-social-good-earth-market-20276
END:VEVENT

END:VCALENDAR
