BEGIN:VCALENDAR
VERSION:2.0
PRODID:-//ChamberMaster//Event Calendar 2.0//EN
METHOD:PUBLISH
X-PUBLISHED-TTL:P3D
REFRESH-INTERVAL:P3D
CALSCALE:GREGORIAN
BEGIN:VEVENT
DTSTART:20220525T203000Z
DTEND:20220525T223000Z
X-MICROSOFT-CDO-ALLDAYEVENT:FALSE
SUMMARY:Business After Hours - Freeman Arts Pavilion May 2022
DESCRIPTION:Join us on May 25th at: Freeman Arts Pavilion for our May 2022 Business After Hour events.The Chamber Business After Hours is a fantastic way to promote your business through networking with fellow Chamber members. Don't forget to bring your business cards with you and for a little extra exposure bring a door prize too.\n\n\n\nAs a courtesy to our host\, RSVP is highly encouraged.\n\n\n\n50/50 Raffle Beneficiary: TBD\n\n\n\nInterested in hosting a networking event\, or learning how you can become a member spotlight at future Business After Hours? \n\nContact membership@thequietresorts.com or 302-539-2100.
X-ALT-DESC;FMTTYPE=text/html:<span style="font-family: arial\, sans-serif\; font-size: 10.5pt\;">Join us on May 25th at:<b><i> Freeman Arts Pavilion</i></b>&nbsp\;for our May 2022 Business After Hour events.The Chamber Business After Hours is a fantastic way to promote your business through networking with fellow Chamber members. Don&rsquo\;t forget to bring your business cards with you and for a little extra exposure bring a door prize too.<br />\n<br />\nAs a courtesy to our host\, RSVP is highly encouraged.<br />\n<br />\n50/50 Raffle Beneficiary: TBD</span><br />\n<br />\n<strong><span style="font-family: arial\, sans-serif\;"><span style="font-size: 10.5pt\;">Interested in hosting a networking event\, or learning how you can become a member spotlight at future Business After Hours?&nbsp\;</span></span></strong><br />\n<span style="font-family: arial\, sans-serif\;"><span style="font-size: 10.5pt\;">Contact membership@thequietresorts.com or 302-539-2100.</span></span>
LOCATION:Freeman Arts Pavilion 31806 Lake View Dr\, Selbyville\, DE 19975
UID:e.2126.23497
SEQUENCE:3
DTSTAMP:20260422T000931Z
URL:http://business.thequietresorts.com/events/details/business-after-hours-freeman-arts-pavilion-may-2022-23497
END:VEVENT

END:VCALENDAR
