BEGIN:VCALENDAR
VERSION:2.0
PRODID:-//ChamberMaster//Event Calendar 2.0//EN
METHOD:PUBLISH
X-PUBLISHED-TTL:P3D
REFRESH-INTERVAL:P3D
CALSCALE:GREGORIAN
BEGIN:VEVENT
DTSTART:20230419T203000Z
DTEND:20230419T223000Z
X-MICROSOFT-CDO-ALLDAYEVENT:FALSE
SUMMARY:Business After Hours at Barn Hill Preserve of Delaware
DESCRIPTION:Join us on April 19th at Barn Hill Preserve of Delaware for the Business After Hours event.  The Chamber Business After Hours is a fantastic way to promote your business through networking with fellow Chamber members. Don't forget to bring your business cards with you and for a little extra exposure bring a door prize too. Spend the evening networking\, meeting the animals\, and enjoying food by Bethany Blues BBQ and drinks provided by Beach Liquors and Salted Vines Vineyard and Winery!\n\n\n\nEvent parking will be set up in the side lot next to Barn Hill Preserve!  \n\n\n\nAs a courtesy to our host\, RSVP is highly encouraged.\n\n\n\nInterested in hosting a networking event\, or learning how you can become a member spotlight at future Business After Hours? \n\n\n\nContact membership@thequietresorts.com or 302-539-2100.
X-ALT-DESC;FMTTYPE=text/html:<span style="font-family: arial\, sans-serif\; font-size: 10.5pt\;">Join us on April 19th at <b>Barn Hill Preserve of Delaware</b>&nbsp\;for the Business After Hours event.&nbsp\; The Chamber Business After Hours is a fantastic way to promote your business through networking with fellow Chamber members. Don&#39\;t forget to bring your business cards with you and for a little extra exposure bring a door prize too.&nbsp\;</span><span style="font-family: arial\, sans-serif\; font-size: 14px\;">Spend the evening networking\, meeting the animals\, and enjoying food by Bethany Blues BBQ and drinks provided by Beach Liquors and Salted Vines Vineyard and Winery!</span><br style="font-family: arial\, sans-serif\; font-size: 14px\;" />\n<br style="font-family: arial\, sans-serif\; font-size: 14px\;" />\n<span style="font-family: arial\, sans-serif\; font-size: 14px\;">Event parking will be set up in the side lot next to Barn Hill Preserve!&nbsp\;&nbsp\;</span><br style="font-family: arial\, sans-serif\; font-size: 14px\;" />\n<br style="font-family: arial\, sans-serif\; font-size: 14px\;" />\n<span style="font-family: arial\, sans-serif\; font-size: 14px\;">As a courtesy to our host\, RSVP is highly encouraged.</span><br />\n<br />\n<strong><span style="font-family: arial\, sans-serif\;"><span style="font-size: 10.5pt\;">Interested in hosting a networking event\, or learning how you can become a member spotlight at future Business After Hours?&nbsp\;</span></span></strong><br />\n<br />\n<span style="font-family: arial\, sans-serif\;"><span style="font-size: 10.5pt\;">Contact membership@thequietresorts.com or 302-539-2100.</span></span><br />\n<br />\n&nbsp\;
LOCATION:Barn Hill Preserve of Delaware 34215 Peppers Corner Rd. Frankford\, DE 19945
UID:e.2126.24925
SEQUENCE:3
DTSTAMP:20260421T060356Z
URL:http://business.thequietresorts.com/events/details/business-after-hours-at-barn-hill-preserve-of-delaware-24925
END:VEVENT

END:VCALENDAR
