BEGIN:VCALENDAR
VERSION:2.0
PRODID:-//ChamberMaster//Event Calendar 2.0//EN
METHOD:PUBLISH
X-PUBLISHED-TTL:P3D
REFRESH-INTERVAL:P3D
CALSCALE:GREGORIAN
BEGIN:VEVENT
DTSTART:20220426T203000Z
DTEND:20220426T223000Z
X-MICROSOFT-CDO-ALLDAYEVENT:FALSE
SUMMARY:Business After Hours April 2022- DiFebo's Restaurant & Deli
DESCRIPTION:Join us on April 26th at DiFebo's Restaurant & Deli for the Business After Hours event.  The Chamber Business After Hours is a fantastic way to promote your business through networking with fellow Chamber members. Don't forget to bring your business cards with you and for a little extra exposure bring a door prize too.\n\n\n\nAs a courtesy to our host\, RSVP is highly encouraged.\n\n\n\n50/50 Raffle Beneficiary: Justin's Beach House\n\n\n\nCheck out our Member Spotlight Table!\n\n	Beebe Healthcare \n\n\n\nStay Afterwards for Dinner!\n\n\n\n\n\n\n\nInterested in hosting a networking event\, or learning how you can become a member spotlight at future Business After Hours? \n\n\n\nContact membership@thequietresorts.com or 302-539-2100.
X-ALT-DESC;FMTTYPE=text/html:<span style="font-family: arial\, sans-serif\; font-size: 10.5pt\;">Join us on April 26th at <b><i>DiFebo&#39\;s Restaurant &amp\; Deli</i></b>&nbsp\;for the Business After Hours event.&nbsp\; The Chamber Business After Hours is a fantastic way to promote your business through networking with fellow Chamber members. Don&#39\;t forget to bring your business cards with you and for a little extra exposure bring a door prize too.<br />\n<br />\nAs a courtesy to our host\, RSVP is highly encouraged.</span><br />\n<br />\n<span style="color: rgb(51\, 51\, 51)\; font-family: arial\, sans-serif\; font-size: 10.5pt\;"><strong>50/50 Raffle Beneficiary:&nbsp\;Justin&#39\;s Beach House</strong><br />\n<br />\n<strong>Check out our Member Spotlight Table!</strong></span>\n<ul style="padding: 0px 40px\; color: rgb(51\, 51\, 51)\; font-family: sans-serif\, Arial\, Verdana\, &quot\;Trebuchet MS&quot\;\; font-size: 13px\;">\n	<li><span style="font-family: arial\, sans-serif\; font-size: 10.5pt\;">Beebe Healthcare&nbsp\;</span></li>\n</ul>\n<br />\n<span style="font-family: arial\, sans-serif\; font-size: 10.5pt\;"><strong>Stay Afterwards for Dinner!</strong></span><br />\n<br />\n<br />\n<br />\n<strong><span style="font-family: arial\, sans-serif\;"><span style="font-size: 10.5pt\;">Interested in hosting a networking event\, or learning how you can become a member spotlight at future Business After Hours?&nbsp\;</span></span></strong><br />\n<br />\n<span style="font-family: arial\, sans-serif\;"><span style="font-size: 10.5pt\;">Contact membership@thequietresorts.com or 302-539-2100.</span></span><br />\n&nbsp\;
LOCATION:DiFebo's Restaurant & Deli 789 Garfield Pkwy. Bethany Beach\, DE 19930 (302) 539-4550 PARKING INFORMATION: DiFebos's\, DiFebos Market\, or at St. Ann's Church down Garfield Parkway.
UID:e.2126.23538
SEQUENCE:3
DTSTAMP:20260422T020030Z
URL:http://business.thequietresorts.com/events/details/business-after-hours-april-2022-difebo-s-restaurant-deli-23538
END:VEVENT

END:VCALENDAR
