BEGIN:VCALENDAR
VERSION:2.0
PRODID:-//ChamberMaster//Event Calendar 2.0//EN
METHOD:PUBLISH
X-PUBLISHED-TTL:P3D
REFRESH-INTERVAL:P3D
CALSCALE:GREGORIAN
BEGIN:VEVENT
DTSTART:20200422T210000Z
DTEND:20200422T230000Z
X-MICROSOFT-CDO-ALLDAYEVENT:FALSE
SUMMARY:Business After Hours: April 2020 - Catch 54
DESCRIPTION:Business After Hours is bigger and better than ever in 2020. So\, join us this month at the Catch 54  to sample culinary delights from the menu\, network in an energetic atmosphere and take advantage of promoting your business. Bring a doorprize to promote your business with fellow Chamber members -- and don't forget your business cards for your chance to win!\n\n\n\nSpotlight Table:  Beebe Healthcare\n\nSpotlight Table:\n\n50/50 Raffle Beneficiary:  \n\n \n\n\n\nAs a courtesy to our host\, a RSVP is highly encouraged.
X-ALT-DESC;FMTTYPE=text/html:Business After Hours is bigger and better than ever in 2020. So\, join us this month at the <b><i>Catch 54&nbsp\;&nbsp\;</i></b>to sample culinary delights from the menu\, network in an energetic atmosphere and take advantage&nbsp\;of promoting your business. Bring a doorprize to promote your business with fellow Chamber members -- and don&#39\;t forget your business cards for your chance to win!<br />\n<br />\nSpotlight Table:&nbsp\; Beebe Healthcare<br />\nSpotlight Table:<br />\n50/50 Raffle Beneficiary:&nbsp\;<b>&nbsp\;</b><br />\n&nbsp\;<br />\n<br />\n<span style="font-size: 14px\;"><span style="font-family: arial\;"><span>As a courtesy to our host\, a RSVP is highly encouraged.</span></span></span>
LOCATION:Catch 54 38931 Madison Avenue Selbyville\, DE 19975
UID:e.2126.20063
SEQUENCE:3
DTSTAMP:20260425T225303Z
URL:http://business.thequietresorts.com/events/details/business-after-hours-april-2020-catch-54-20063
END:VEVENT

END:VCALENDAR
