BEGIN:VCALENDAR
VERSION:2.0
PRODID:-//ChamberMaster//Event Calendar 2.0//EN
METHOD:PUBLISH
X-PUBLISHED-TTL:P3D
REFRESH-INTERVAL:P3D
CALSCALE:GREGORIAN
BEGIN:VEVENT
DTSTART:20220223T213000Z
DTEND:20220223T233000Z
X-MICROSOFT-CDO-ALLDAYEVENT:FALSE
SUMMARY:Business After Hours: 2022 Kick-Off at The Salted Rim
DESCRIPTION:Join us on February 23rd at The Salted Rim as we kick off our 2022 Business After Hour events and thank our 2022 Fire & Ice Sponsors! The Chamber Business After Hours is a fantastic way to promote your business through networking with fellow Chamber members. Don't forget to bring your business cards with you and for a little extra exposure bring a door prize too.\n\n\n\nAs a courtesy to our host\, RSVP is highly encouraged.\n\n\n\n50/50 Raffle Beneficiary:  Millville Volunteer Fire Company\n\n\n\nInterested in hosting a networking event\, or learning how you can become a member spotlight at future Business After Hours? \n\nContact membership@thequietresorts.com or 302-539-2100.
X-ALT-DESC;FMTTYPE=text/html:<span style="color:#333333\;"><span style="font-family: arial\, sans-serif\; font-size: 10.5pt\;">Join us on February 23rd at&nbsp\;<strong><em>The Salted Rim</em></strong>&nbsp\;as we kick off our 2022 Business After Hour events and thank our 2022 Fire &amp\; Ice Sponsors! The Chamber Business After Hours is a fantastic way to promote your business through networking with fellow Chamber members. Don&#39\;t forget to bring your business cards with you and for a little extra exposure bring a door prize too.<br />\n<br />\nAs a courtesy to our host\, RSVP is highly encouraged.<br />\n<br />\n50/50 Raffle Beneficiary:&nbsp\; </span><font face="helvetica\, sans-serif"><span style="font-size: 15.3333px\;">Millville Volunteer Fire Company</span></font></span><br style="font-variant-ligatures:normal\;font-variant-caps:normal\;orphans:2\;text-align:start\;widows:2\;-webkit-text-stroke-width:0px\;text-decoration-thickness:initial\;text-decoration-style:initial\;word-spacing:0px\;" />\n<br style="font-variant-ligatures:normal\;font-variant-caps:normal\;orphans:2\;text-align:start\;widows:2\;-webkit-text-stroke-width:0px\;text-decoration-thickness:initial\;text-decoration-style:initial\;word-spacing:0px\;" />\n<strong><span style="color:#333333\;"><span style="font-family:arial\,sans-serif\;"><span style="font-size:10.5pt\;"><span style="font-variant-ligatures:normal\;font-variant-caps:normal\;orphans:2\;text-align:start\;widows:2\;-webkit-text-stroke-width:0px\;text-decoration-thickness:initial\;text-decoration-style:initial\;word-spacing:0px\;">Interested in hosting a networking event\, or learning how you can become a member spotlight at future Business After Hours?&nbsp\;</span></span></span></span></strong><br />\n<span style="color:#333333\;"><span style="font-family:arial\,sans-serif\;"><span style="font-size:10.5pt\;">Contact membership@thequietresorts.com or 302-539-2100.</span></span></span><br />\n&nbsp\;
LOCATION:The Salted Rim Margarita Bar & Grille 35553 Atlantic Ave. Millville\, DE 19967 thesaltedrim@aol.com
UID:e.2126.23447
SEQUENCE:3
DTSTAMP:20260424T054805Z
URL:http://business.thequietresorts.com/events/details/business-after-hours-2022-kick-off-at-the-salted-rim-23447
END:VEVENT

END:VCALENDAR
