BEGIN:VCALENDAR
VERSION:2.0
PRODID:-//ChamberMaster//Event Calendar 2.0//EN
METHOD:PUBLISH
X-PUBLISHED-TTL:P3D
REFRESH-INTERVAL:P3D
CALSCALE:GREGORIAN
BEGIN:VEVENT
DTSTART:20200226T220000Z
DTEND:20200227T000000Z
X-MICROSOFT-CDO-ALLDAYEVENT:FALSE
SUMMARY:Business After Hours: 2020 Kick-Off Bethany Beach Ocean Suites & 99 Sea Level
DESCRIPTION:Join us in February at Bethany Beach Ocean Suites & 99 Sea Level as we kick off our 2020 Business After Hour events and thank our 2020 Fire & Ice Sponsors! Enjoy culinary tastings from 99 Sea Level's menu\, all while promoting your business through networking with fellow Chamber members. Business After Hours regularly sees 100+ attendees\, so bring plenty of business cards. And\, don't forget your door prize! Bring a company-sponsored giveaway for extra exposure at the event.\n\n\n\nAs a courtesy to our host\, RSVP is highly encouraged.\n\n\n\nSpotlight Table:  The Freeman Stage\n\nSpotlight Table:  Bethany Beach Ocean Suites\n\n50/50 Raffle Beneficiary:   Nemours duPont Pediatrics & SeniorCare\, Sussex Campus\n\n\n\nInterested in hosting a networking event\, or learning how you can become a member spotlight at future Business After Hours? \n\nContact Fred at fred@bethany-fenwick.org or 302-539-2100.\np.p1 {margin: 0.0px 0.0px 0.0px 0.0px\; font: 12.0px Calibri\; color: #4a5056}
X-ALT-DESC;FMTTYPE=text/html:<span style="font-size: 14px\;"><span style="font-family: arial\;"><span>Join us in February at <strong><em>Bethany Beach Ocean Suites&nbsp\;&amp\; 99 Sea Level</em></strong>&nbsp\;as we kick off our 2020 Business After Hour events and thank our 2020 Fire &amp\; Ice Sponsors! Enjoy culinary tastings from 99 Sea Level&#39\;s menu\, all while promoting your business through networking with fellow Chamber members. Business After Hours regularly sees 100+ attendees\, so bring plenty of business cards. And\, don&#39\;t forget your door prize! Bring a company-sponsored giveaway for extra exposure at the event.</span><br />\n<br />\n<span>As a courtesy to our host\, RSVP is highly encouraged.<br />\n<br />\nSpotlight Table:&nbsp\; The Freeman Stage<br />\nSpotlight Table:&nbsp\; Bethany Beach Ocean Suites<br />\n50/50 Raffle Beneficiary:&nbsp\;&nbsp\;</span></span></span><span style="color: rgb(51\, 51\, 51)\; font-family: &quot\;Helvetica Neue&quot\;\, Helvetica\, Arial\, sans-serif\; font-size: 15px\; background-color: rgb(255\, 255\, 255)\;">&nbsp\;<span style="font-size: 14px\;"><span style="font-family: arial\;">Nemours duPont Pediatrics &amp\; SeniorCare\, Sussex Campus</span></span></span><br />\n<br />\n<span style="font-size: 14px\;"><span style="font-family: arial\;"><span><strong>Interested in hosting a networking event\, or learning how you can become a member spotlight at future Business After Hours?&nbsp\;</strong><br />\nContact Fred at fred@bethany-fenwick.org or 302-539-2100.</span></span></span>\n<style type="text/css">p.p1 {margin: 0.0px 0.0px 0.0px 0.0px\; font: 12.0px Calibri\; color: #4a5056}\n</style>\n
LOCATION:Bethany Beach Ocean Suites & 99 Sea Level 99 Hollywood St. Bethany Beach\, DE 19930
UID:e.2126.19675
SEQUENCE:3
DTSTAMP:20260426T003557Z
URL:http://business.thequietresorts.com/events/details/business-after-hours-2020-kick-off-bethany-beach-ocean-suites-99-sea-level-19675
END:VEVENT

END:VCALENDAR
