BEGIN:VCALENDAR
VERSION:2.0
PRODID:-//ChamberMaster//Event Calendar 2.0//EN
METHOD:PUBLISH
X-PUBLISHED-TTL:P3D
REFRESH-INTERVAL:P3D
CALSCALE:GREGORIAN
BEGIN:VEVENT
DTSTART:20220623T120000Z
DTEND:20220623T210000Z
X-MICROSOFT-CDO-ALLDAYEVENT:FALSE
SUMMARY:Bus Driver Job Fair
DESCRIPTION:Love Your Job.  Shift Your Career Into Gear With First Transit.\n\n\n\nBus Driver Job Fair\n\n	Up to a $3\,000 sign-on bonus\n	$20.00/hr starting wage\n	Paid PTO/vacation\n	Cutting-edge paid training\n	Training for Non CDL drivers to help obtain CDL\n	Year-round work available\n	Flexible Schedules
X-ALT-DESC;FMTTYPE=text/html:Love Your Job.&nbsp\; Shift Your Career Into Gear With First Transit.<br />\n<br />\nBus Driver Job Fair\n<ul>\n	<li>Up to a $3\,000 sign-on bonus</li>\n	<li>$20.00/hr starting wage</li>\n	<li>Paid PTO/vacation</li>\n	<li>Cutting-edge paid training</li>\n	<li>Training for Non CDL drivers to help obtain CDL</li>\n	<li>Year-round work available</li>\n	<li>Flexible Schedules</li>\n</ul>\n
LOCATION:Job Fair Details 20055 Shuttle Road Rehoboth Beach\, DE 19971
UID:e.2126.23787
SEQUENCE:3
DTSTAMP:20260421T222909Z
URL:http://business.thequietresorts.com/events/details/bus-driver-job-fair-23787
END:VEVENT

END:VCALENDAR
