BEGIN:VCALENDAR
VERSION:2.0
PRODID:-//ChamberMaster//Event Calendar 2.0//EN
METHOD:PUBLISH
X-PUBLISHED-TTL:P3D
REFRESH-INTERVAL:P3D
CALSCALE:GREGORIAN
BEGIN:VEVENT
DTSTART:20231026T210000Z
DTEND:20231026T230000Z
X-MICROSOFT-CDO-ALLDAYEVENT:FALSE
SUMMARY:BUREAU OF OCEAN ENERGY MANAGEMENT OFFERS PUBLIC COMMENT PERIOD ON WIND FARMS OFF THE BETHANY BEACH COAST
DESCRIPTION:The Bureau of Ocean Energy Management (BOEM) released their Draft Environmental Impact Statement (DEIS) for their projects. The project evaluates a number of scenarios\, including "no action (i.e.\, disapprove the projects)\," "proposed action (approve our plan according to our recommended approach)\," and several alternatives approaches that were conceived during the public scoping process last year.\n\n\n\nBOEM will commence a 45-day public comment period this Friday that will include four public meetings in the second half of October. This is an opportunity for members of the public to comment on the Draft Environmental Impact Statement (DEIS). Two meetings are in person\, and two are online:\n\n	In-Person public meetings:\n	\n		Tue.\, Oct. 24\, 2023\, at 5:00 p.m. - Ocean City Elementary\, 12828 Center Dr.\, Ocean City\, MD 21842\n		Thu.\, Oct. 26\, 2023\, at 5:00 p.m. - Indian River High School\, 29772 Armory Rd.\, Dagsboro\, DE 19939\n	\n	\n	Virtual public meetings:\n	\n		Thu.\, Oct. 19\, 2023\, at 1:00 p.m.\n		Mon.\, Oct. 30\, 2023\, at 5:00 p.m.\n	\n	\n\nBOEM's page for the US Wind Project can be found here:  Bureau of Ocean Energy Management Maryland Offshore Wind Project\n\n \n\nBOEM's page for (DEIS) Draft Environmental Impact Statement can be found here:  Bureau of Ocean Energy Management Maryland Offshore Wind (DEIS)\n\n \n\nUS Wind Inc.'s (COP) Construction and Operations Plan can be found here: Bureau of Ocean Energy Management Maryland Offshore Wind (COP)\n\n \n\nFor more information on the US Wind Farm located off the Bethany Beach Coast click this link: US Wind Presentation to Bethany Beach Town Council by US Wind Inc.
X-ALT-DESC;FMTTYPE=text/html:<span style="color:#444444\;"><span style="font-family:georgia\,serif\;"><span style="font-size:11.5pt\;">The Bureau of Ocean Energy Management (BOEM) released their Draft Environmental Impact Statement (DEIS) for their projects. The project evaluates a number of scenarios\, including &ldquo\;no action (i.e.\, disapprove the projects)\,&rdquo\; &ldquo\;proposed action (approve our plan according to our recommended approach)\,&rdquo\; and several alternatives approaches that were conceived during the public scoping process last year.</span></span></span><br />\n<br />\n<span style="color:#444444\;"><span style="font-family:georgia\,serif\;"><span style="font-size:11.5pt\;">BOEM will commence a 45-day public comment period this Friday that will include four public meetings in the second half of October. This is an opportunity for members of the public to comment on the Draft Environmental Impact Statement (DEIS). Two meetings are in person\, and two are online:</span></span></span>\n<ul>\n	<li style="margin-bottom:4.2pt\;"><span style="color:#444444\;"><span style="font-family:arial\,sans-serif\;"><span style="font-size:10.0pt\;">In-Person public&nbsp\;meetings:</span></span></span>\n	<ul style="list-style-type:circle\;">\n		<li style="margin-bottom:4.2pt\;"><span style="color:#444444\;"><span style="font-family:arial\,sans-serif\;"><span style="font-size:10.0pt\;">Tue.\, Oct. 24\, 2023\, at 5:00 p.m. - Ocean City Elementary\, 12828 Center Dr.\, Ocean City\, MD 21842</span></span></span></li>\n		<li style="margin-bottom:4.2pt\;"><span style="color:#444444\;"><span style="font-family:arial\,sans-serif\;"><span style="font-size:10.0pt\;">Thu.\, Oct. 26\, 2023\, at 5:00 p.m. - Indian River High School\, 29772 Armory Rd.\, Dagsboro\, DE 19939</span></span></span></li>\n	</ul>\n	</li>\n	<li style="margin-bottom:4.2pt\;"><span style="color:#444444\;"><span style="font-family:arial\,sans-serif\;"><span style="font-size:10.0pt\;">Virtual public&nbsp\;meetings:</span></span></span>\n	<ul style="list-style-type:circle\;">\n		<li style="margin-bottom:4.2pt\;"><span style="color:#444444\;"><span style="font-family:arial\,sans-serif\;"><span style="font-size:10.0pt\;">Thu.\, Oct. 19\, 2023\, at 1:00&nbsp\;p.m.</span></span></span></li>\n		<li style="margin-bottom:4.2pt\;"><span style="color:#444444\;"><span style="font-family:arial\,sans-serif\;"><span style="font-size:10.0pt\;">Mon.\, Oct. 30\, 2023\, at 5:00&nbsp\;p.m.</span></span></span></li>\n	</ul>\n	</li>\n</ul>\n<span style="color:#444444\;"><span style="font-family:georgia\,serif\;"><span style="font-size:11.5pt\;">BOEM&rsquo\;s page for the US Wind Project can be found here: &nbsp\;<a href="https://www.boem.gov/renewable-energy/state-activities/maryland-offshore-wind" target="_blank"><span style="color:#085295\;">Bureau of Ocean Energy Management Maryland Offshore Wind Project</span></a></span></span></span><br />\n&nbsp\;<br />\n<span style="color:#444444\;"><span style="font-family:georgia\,serif\;"><span style="font-size:11.5pt\;">BOEM&rsquo\;s page for (DEIS) Draft Environmental Impact Statement can be found here: &nbsp\;<a href="https://www.boem.gov/renewable-energy/state-activities/maryland-offshore-wind-draft-environmental-impact-statement-eis" target="_blank"><span style="color:#085295\;">Bureau of Ocean Energy Management Maryland Offshore Wind (DEIS)</span></a></span></span></span><br />\n&nbsp\;<br />\n<span style="color:#444444\;"><span style="font-family:georgia\,serif\;"><span style="font-size:11.5pt\;">US Wind Inc.&rsquo\;s (COP) Construction and Operations Plan can be found here: <a href="https://www.boem.gov/renewable-energy/state-activities/maryland-offshore-wind-construction-and-operations-plan" target="_blank"><span style="color:#085295\;">Bureau of Ocean Energy Management Maryland Offshore Wind (COP)</span></a></span></span></span><br />\n&nbsp\;<br />\n<span style="color:#444444\;"><span style="font-family:georgia\,serif\;"><span style="font-size:11.5pt\;">For more information on the US Wind Farm located off the Bethany Beach Coast click this link: <a href="https://www.townofbethanybeach.com/DocumentCenter/View/6795/US-Wind-Dunmeyer-Presentation---July-2022" target="_blank"><span style="color:#085295\;">US Wind Presentation to Bethany Beach Town Council by US Wind Inc.</span></a></span></span></span>
LOCATION:Indian River High School 29772 Armory Rd. Dagsboro\, DE 19939
UID:e.2126.27026
SEQUENCE:3
DTSTAMP:20260420T183802Z
URL:http://business.thequietresorts.com/events/details/bureau-of-ocean-energy-management-offers-public-comment-period-on-wind-farms-off-the-bethany-beach-coast-27026
END:VEVENT

END:VCALENDAR
