BEGIN:VCALENDAR
VERSION:2.0
PRODID:-//ChamberMaster//Event Calendar 2.0//EN
METHOD:PUBLISH
X-PUBLISHED-TTL:P3D
REFRESH-INTERVAL:P3D
CALSCALE:GREGORIAN
BEGIN:VEVENT
DTSTART:20231202T150000Z
DTEND:20231202T170000Z
X-MICROSOFT-CDO-ALLDAYEVENT:FALSE
SUMMARY:Build Your Own Holiday Wreath at Inland Bays Garden Center
DESCRIPTION:It's not officially the holiday season until your holiday wreath is hanging on your front door. With simple instruction from Don Duca\, Inland Bays Garden Center "Master Wreath Maker\," you'll transform juniper\, pine\, fir\, holly\, magnolia\, and pine cones into a wreath that will be the envy of your neighborhood. Bring a ribbon of your choice and learn how to make the perfect bow to personalize your wreath.\n\n\n\nChristmas carols\, hot cider\, and gingerbread men make this workshop a sensory delight.\n\n\n\nDon Duca has been making wreaths for as long as he can remember and has taught wreath making at Inland Bays Garden Center for many years. Don brings out the creativity in everyone\, helping reveal any hidden wreath making talents! Sign up early as these popular classes fill up quickly.
X-ALT-DESC;FMTTYPE=text/html:It&rsquo\;s not officially the holiday season until your holiday wreath is hanging on your front door. With simple instruction from Don Duca\, Inland Bays Garden Center &ldquo\;Master Wreath Maker\,&rdquo\; you&rsquo\;ll transform juniper\, pine\, fir\, holly\, magnolia\, and pine cones into a wreath that will be the envy of your neighborhood. Bring a ribbon of your choice and learn how to make the perfect bow to personalize your wreath.<br />\n<br />\nChristmas carols\, hot cider\, and gingerbread men make this workshop a sensory delight.<br />\n<br />\nDon Duca has been making wreaths for as long as he can remember and has taught wreath making at Inland Bays Garden Center for many years. Don brings out the creativity in everyone\, helping reveal any hidden wreath making talents! Sign up early as these popular classes fill up quickly.
LOCATION:Inland Bays Garden Center 38320 Muddy Neck Rd Frankford DE 19945
UID:e.2126.27180
SEQUENCE:3
DTSTAMP:20260420T165614Z
URL:http://business.thequietresorts.com/events/details/build-your-own-holiday-wreath-at-inland-bays-garden-center-12-02-2023-27180
END:VEVENT

END:VCALENDAR
