BEGIN:VCALENDAR
VERSION:2.0
PRODID:-//ChamberMaster//Event Calendar 2.0//EN
METHOD:PUBLISH
X-PUBLISHED-TTL:P3D
REFRESH-INTERVAL:P3D
CALSCALE:GREGORIAN
BEGIN:VEVENT
DTSTART:20230624T140000Z
DTEND:20230624T160000Z
X-MICROSOFT-CDO-ALLDAYEVENT:FALSE
SUMMARY:Build Good Neighbors with Natural Privacy Fences with Scott Freedman
DESCRIPTION:This class will discuss the many native plant alternatives available to provide privacy to areas without having to resort to traditional fencing.  Many topics will be discussed that are important in selecting plants that will meet your screening goals.  A tour of the nursery will be included where we will be highlighting plants and discussing their potential role in the landscape as privacy screening.\n\nScott's work experience includes working in the tree care industry as an ISA Certified Arborist\, construction administrator with a natural resources preservation company\, manager of a commercial landscape maintenance company and most recently as the grounds and plant health care specialist at Mt Cuba Center.  \n\n\n\n\n\nLearn more at: https://www.inlandbaysgardencenter.com/events/
X-ALT-DESC;FMTTYPE=text/html:<div style="margin-left:0px\; margin-right:0px">\n<div>\n<div>\n<div>\n<p>This class will discuss the many native plant alternatives available to provide privacy to areas without having to resort to traditional fencing.&nbsp\; Many topics will be discussed that are important in selecting plants that will meet your screening goals.&nbsp\; A tour of the nursery will be included where we will be highlighting plants and discussing their potential role in the landscape as privacy screening.</p>\n\n<p>Scott&rsquo\;s work&nbsp\;experience includes working in the tree care industry as an ISA Certified Arborist\, construction administrator with a natural resources preservation company\, manager of a commercial landscape maintenance company and most recently as the grounds and plant health care specialist at Mt Cuba Center.&nbsp\;&nbsp\;</p>\n</div>\n</div>\n</div>\n</div>\n\n<p>Learn more at:&nbsp\;https://www.inlandbaysgardencenter.com/events/</p>\n
LOCATION:Inland Bays Garden Center 38320 Muddy Neck Road Frankford\, DE 19945
UID:e.2126.26140
SEQUENCE:3
DTSTAMP:20260421T005213Z
URL:http://business.thequietresorts.com/events/details/build-good-neighbors-with-natural-privacy-fences-with-scott-freedman-26140
END:VEVENT

END:VCALENDAR
