BEGIN:VCALENDAR
VERSION:2.0
PRODID:-//ChamberMaster//Event Calendar 2.0//EN
METHOD:PUBLISH
X-PUBLISHED-TTL:P3D
REFRESH-INTERVAL:P3D
CALSCALE:GREGORIAN
BEGIN:VEVENT
DTSTART:20230916T140000Z
DTEND:20230916T150000Z
X-MICROSOFT-CDO-ALLDAYEVENT:FALSE
SUMMARY:Build a Bed with Bill Lord at Lords Landscaping
DESCRIPTION:Discover how to approach planting design for a range of different garden environments with Delaware Certified Nursery Professional and former Lord's landscaping owner\, Bill Lord. Learn how to create beautiful\, sustainable and naturalistic planting schemes - in any sized space - that will harmonize with the landscape and in the local environment. This seminar is suitable for both those looking to take their first steps into garden design as well as more experienced gardeners who are looking for new sources of inspiration and education.\n\n\n\nRegister here.
X-ALT-DESC;FMTTYPE=text/html:Discover how to approach planting design for a range of different garden environments with Delaware Certified Nursery Professional and former Lord&#39\;s landscaping owner\, Bill Lord. Learn how to create beautiful\, sustainable and naturalistic planting schemes - in any sized space - that will harmonize with the landscape and in the local environment. This seminar is suitable for both those looking to take their first steps into garden design as well as more experienced gardeners who are looking for new sources of inspiration and education.<br />\n<br />\nRegister <a href="https://www.eventbrite.com/e/build-a-bed-talk-w-bill-lord-tickets-707110625917?aff=oddtdtcreator&amp\;ct=t%28EMAIL_CAMPAIGN_9_7_2023_14_11%29&amp\;mc_eid=4f735cf0fb&amp\;mc_cid=404a9e8d95">here</a>.
LOCATION:Lord's Landscaping 35577 Atlantic Ave. Millville\, DE 19967
UID:e.2126.26896
SEQUENCE:3
DTSTAMP:20260420T195831Z
URL:http://business.thequietresorts.com/events/details/build-a-bed-with-bill-lord-at-lords-landscaping-26896
END:VEVENT

END:VCALENDAR
