BEGIN:VCALENDAR
VERSION:2.0
PRODID:-//ChamberMaster//Event Calendar 2.0//EN
METHOD:PUBLISH
X-PUBLISHED-TTL:P3D
REFRESH-INTERVAL:P3D
CALSCALE:GREGORIAN
BEGIN:VEVENT
DTSTART:20240525T230000Z
DTEND:20240526T000000Z
X-MICROSOFT-CDO-ALLDAYEVENT:FALSE
SUMMARY:Bubble Magic with Meadow Perry at Dickens Parlour Theatre
DESCRIPTION:Meadow Perry is a magician\, bubble artist\, and actress who creates breathtakingly beautiful magic out of thin air. Discover true wonder as this sorceress of soap bubbles takes the rules of bubbles outside the box and takes you on an elegant journey exploring the soapy secrets that bubbles hold. Her internationally acclaimed show\, "Bubble Magic\," combines skillful bubble artistry\, magic\, music\, and theatre to create a unique experience for her audience.\n\nMeadow Perry has performed for top companies like Amazon and Paramount and has been a featured performer for The International Brotherhood of Magicians\, The Society of American Magicians International Assembly\, Washington Magic\, The Boston Magic Lab\, Philadelphia's Smoke and Mirrors Magic Theater and the World Famous Magic Castle. Meadow has reached over 18 million on TikTok with over 300k followers. Meadow will be making her national TV debut on The upcoming season of The CW's Masters of Illusion\, which begins its season on February 11\, 2024.
X-ALT-DESC;FMTTYPE=text/html:<p>Meadow Perry is a magician\, bubble artist\, and actress who creates breathtakingly beautiful magic out of thin air. Discover true wonder as this sorceress of soap bubbles takes the rules of bubbles outside the box and takes you on an elegant journey exploring the soapy secrets that bubbles hold. Her internationally acclaimed show\, &ldquo\;Bubble Magic\,&rdquo\; combines skillful bubble artistry\, magic\, music\, and theatre to create a unique experience for her audience.</p>\n\n<p>Meadow Perry has performed for top companies like Amazon and Paramount and has been a featured performer for The International Brotherhood of Magicians\, The Society of American Magicians International Assembly\, Washington Magic\, The Boston Magic Lab\, Philadelphia&rsquo\;s Smoke and Mirrors Magic Theater and the World Famous Magic Castle. Meadow has reached over 18 million on TikTok with over 300k followers. Meadow will be making her national TV debut on The upcoming season of The CW&rsquo\;s Masters of Illusion\, which begins its season on February 11\, 2024.</p>\n
LOCATION:Dickens Parlour Theatre 31810 Good Earth Lane Ocean View\, DE 19970
UID:e.2126.29945
SEQUENCE:3
DTSTAMP:20260420T042106Z
URL:http://business.thequietresorts.com/events/details/bubble-magic-with-meadow-perry-at-dickens-parlour-theatre-05-25-2024-29945
END:VEVENT

END:VCALENDAR
