BEGIN:VCALENDAR
VERSION:2.0
PRODID:-//ChamberMaster//Event Calendar 2.0//EN
METHOD:PUBLISH
X-PUBLISHED-TTL:P3D
REFRESH-INTERVAL:P3D
CALSCALE:GREGORIAN
BEGIN:VEVENT
DTSTART:20240420T230000Z
DTEND:20240421T010000Z
X-MICROSOFT-CDO-ALLDAYEVENT:FALSE
SUMMARY:Bryan Clark's Art of the American Song at Dickens Parlour
DESCRIPTION:Dynamic. Electrifying. Extraordinary \n\nFor anyone who never had the opportunity to see their favorite performers during an era of genius in American popular music\, Bryan Clark is a timeless reminder of the 'Great Days and Legendary Nights' of the greatest entertainers in the world.\n\nHonoring The Music That Is America's Gift To The World\n\nCole Porter | Johnny Mercer | Duke Ellington | Count Basie | Sinatra | Nat King Cole | George & Ira Gershwin | Tony Bennett | Bobby Darin
X-ALT-DESC;FMTTYPE=text/html:<p><span style="color:rgb(36\, 36\, 36)\; font-size:1.5em">Dynamic. Electrifying. Extraordinary </span></p>\n\n<p><span style="color:rgb(36\, 36\, 36)\; font-size:1.5em">For anyone who never had the opportunity to see their favorite performers during an era of genius in American popular music\, Bryan Clark is a timeless reminder of the &lsquo\;Great Days and Legendary Nights&rsquo\; of the greatest entertainers in the world.</span></p>\n\n<p><span style="color:rgb(36\, 36\, 36)\; font-size:1.5em">Honoring The Music That Is America&rsquo\;s Gift To The World</span></p>\n\n<p><strong><em>Cole Porter&nbsp\;|&nbsp\;Johnny Mercer&nbsp\;|&nbsp\;Duke Ellington&nbsp\;|&nbsp\;Count Basie&nbsp\;|&nbsp\;Sinatra&nbsp\;|&nbsp\;Nat King Cole&nbsp\;|&nbsp\;George &amp\; Ira Gershwin&nbsp\;|&nbsp\;Tony Bennett | Bobby Darin</em></strong></p>\n
LOCATION:Dickens Parlour Theatre 31810 Good Earth Lane Ocean View\, DE 19970
UID:e.2126.28487
SEQUENCE:3
DTSTAMP:20260420T063556Z
URL:http://business.thequietresorts.com/events/details/bryan-clark-s-art-of-the-american-song-at-dickens-parlour-28487
END:VEVENT

END:VCALENDAR
