BEGIN:VCALENDAR
VERSION:2.0
PRODID:-//ChamberMaster//Event Calendar 2.0//EN
METHOD:PUBLISH
X-PUBLISHED-TTL:P3D
REFRESH-INTERVAL:P3D
CALSCALE:GREGORIAN
BEGIN:VEVENT
DTSTART:20240110T163000Z
DTEND:20240110T180000Z
X-MICROSOFT-CDO-ALLDAYEVENT:FALSE
SUMMARY:Brunch & Learn Series: Ocean 98.1 FM’s Bulldog at Art League of OC
DESCRIPTION:Join us at the OC Center for the Arts at 11:30am for a delightful brunch and a fascinating exploration into the lives of Ocean City celebrities. Discover the untold stories\, achievements\, and experiences that have shaped this coastal community's notable figures while savoring delicious brunch bites.\n\nIn January: meet Bulldog\, Ocean 98.1 FM radio personality. Seating is limited so reserve your space now!\n\n$10 per person   includes light brunch & speaker presentation.\n\nClick here to register or call 410-524-9433.
X-ALT-DESC;FMTTYPE=text/html:<p>Join us at the OC Center for the Arts at 11:30am for a delightful brunch and a fascinating exploration into the lives of Ocean City celebrities. Discover the untold stories\, achievements\, and experiences that have shaped this coastal community&rsquo\;s notable figures while savoring delicious brunch bites.</p>\n\n<p>In January: meet Bulldog\, Ocean 98.1 FM radio personality. Seating is limited so reserve your space now!</p>\n\n<p>$10 per person &ndash\; includes light brunch &amp\; speaker presentation.</p>\n\n<p><a href="https://canvas.artleagueofoceancity.org/classes/1209"><strong>Click here to register</strong></a>&nbsp\;or call 410-524-9433.</p>\n
LOCATION:Art League of Ocean City 502 94th Street OCMD 21842
UID:e.2126.27399
SEQUENCE:3
DTSTAMP:20260420T140445Z
URL:http://business.thequietresorts.com/events/details/brunch-learn-series-ocean-98-1-fm-s-bulldog-at-art-league-of-oc-27399
END:VEVENT

END:VCALENDAR
