BEGIN:VCALENDAR
VERSION:2.0
PRODID:-//ChamberMaster//Event Calendar 2.0//EN
METHOD:PUBLISH
X-PUBLISHED-TTL:P3D
REFRESH-INTERVAL:P3D
CALSCALE:GREGORIAN
BEGIN:VEVENT
DTSTART:20220617T230000Z
DTEND:20220618T020000Z
X-MICROSOFT-CDO-ALLDAYEVENT:FALSE
SUMMARY:Bruce in the USA: The World's #1 Tribute to Bruce Springsteen and The E Street Band
DESCRIPTION:Much more than just another tribute   Bruce In The USA is a high-energy\, note-perfect\, and visually accurate musical experience of a Bruce Springsteen & The E Street Band show.\n\n\n\nMatt Ryan\, from the World Famous "Legends In Concert" cast\, began playing the Springsteen character in 2000\, in Legends "full scale" Las Vegas show. The great success in the famous Las Vegas show brought him to performances across the world\, eventually evolving his character into the Bruce In The USA show.\n\n\n\nThe Bruce In The USA Band consists of seasoned world-class professional musicians. The show has hosted musicians from such acts/bands as Queen/Paul Rogers\, Meatloaf\, Blue Oyster Cult\, Hall and Oats\, Joe Cocker\, The Ojays\, Aretha Franklin\, David Cassidy\, The Temptations\, Slash and so many more.\n\n\n\nThis high-end\, powerhouse\, band has taken this genre of performance art to a whole new level\, making it the World's No. 1 Tribute to the E Street Band's musical legacy.\n\n\n\nTo millions of die-hard fans around the world\, it's Springsteen's marathon\, party-like performances that have elevated him to hero status. Bruce's legendary concerts (in the largest arenas) sell out within hours of their announced sale. For those even lucky enough to get a ticket\, there was nothing that could fill the aching void in between Bruce's long-awaited tours   until now!\n\n\n\nThe Bruce In The USA show was born on the Las Vegas Strip in the winter of 2004\, with its debut at Planet Hollywood Resort and Casino\, in the majestic "V Theatre". The show assaulted the senses in a fun-filled and exciting party atmosphere on the Vegas Strip\, while suspending disbelief for even the toughest skeptics. They've been met with critical acclaim\, from the Stone Pony\, large theaters\, and Performance Art Centers across the country\, as well as corporate events spanning across the globe for over a decade. Sell-out crowds are on their feet from the first song to the last.
X-ALT-DESC;FMTTYPE=text/html:<span style="font-size:14px\;"><span style="font-family:arial\;">Much more than just another tribute &hellip\; Bruce In The USA is a high-energy\, note-perfect\, and visually accurate musical experience of a Bruce Springsteen &amp\; The E Street Band show.<br />\n<br />\nMatt Ryan\, from the World Famous &ldquo\;Legends In Concert&rdquo\; cast\, began playing the Springsteen character in 2000\, in Legends &ldquo\;full scale&rdquo\; Las Vegas show. The great success in the famous Las Vegas show brought him to performances across the world\, eventually evolving his character into the Bruce In The USA show.<br />\n<br />\nThe Bruce In The USA Band consists of seasoned world-class professional musicians. The show has hosted musicians from such acts/bands as Queen/Paul Rogers\, Meatloaf\, Blue Oyster Cult\, Hall and Oats\, Joe Cocker\, The Ojays\, Aretha Franklin\, David Cassidy\, The Temptations\, Slash and so many more.<br />\n<br />\nThis high-end\, powerhouse\, band has taken this genre of performance art to a whole new level\, making it the World&rsquo\;s No. 1 Tribute to the E Street Band&rsquo\;s musical legacy.<br />\n<br />\nTo millions of die-hard fans around the world\, it&rsquo\;s Springsteen&rsquo\;s marathon\, party-like performances that have elevated him to hero status. Bruce&rsquo\;s legendary concerts (in the largest arenas) sell out within hours of their announced sale. For those even lucky enough to get a ticket\, there was nothing that could fill the aching void in between Bruce&rsquo\;s long-awaited tours &mdash\; until now!<br />\n<br />\nThe Bruce In The USA show was born on the Las Vegas Strip in the winter of 2004\, with its debut at Planet Hollywood Resort and Casino\, in the majestic &ldquo\;V Theatre&rdquo\;. The show assaulted the senses in a fun-filled and exciting party atmosphere on the Vegas Strip\, while suspending disbelief for even the toughest skeptics. They&rsquo\;ve been met with critical acclaim\, from the Stone Pony\, large theaters\, and Performance Art Centers across the country\, as well as corporate events spanning across the globe for over a decade. Sell-out crowds are on their feet from the first song to the last.</span></span>
LOCATION:FREEMAN ARTS PAVILION 31806 Lakeview Drive Selbyville\, DE 19975
UID:e.2126.23548
SEQUENCE:3
DTSTAMP:20260421T223607Z
URL:http://business.thequietresorts.com/events/details/bruce-in-the-usa-the-world-s-1-tribute-to-bruce-springsteen-and-the-e-street-band-23548
END:VEVENT

END:VCALENDAR
