BEGIN:VCALENDAR
VERSION:2.0
PRODID:-//ChamberMaster//Event Calendar 2.0//EN
METHOD:PUBLISH
X-PUBLISHED-TTL:P3D
REFRESH-INTERVAL:P3D
CALSCALE:GREGORIAN
BEGIN:VEVENT
DTSTART;VALUE=DATE:20221028
DTEND;VALUE=DATE:20221030
TRANSP:TRANSPARENT
X-MICROSOFT-CDO-ALLDAYEVENT:TRUE
SUMMARY:Broadway to Bethany
DESCRIPTION:The Dickens Parlour Theatre proudly presents:\n\nBroadway To Bethany\n\nNew York may have its bright lights\, but the Dickens Parlour Theatre has its stars! The Broadway To Bethany series brings big names and even bigger voices to the beach. Don't miss out on your chance to see Broadway come to life without the commute to the city!\n\n \nElizabeth Ward Land (10/28-10/29) presents the award-winning tribute show "Still Within the Sound of My Voice: The Songs of Linda Ronstadt." Pairing the diverse discography of the great Linda Ronstadt with Elizabeth Ward Land's bold vocals is a treat for the eyes and ears! Elizabeth Ward Land's Broadway and Off-Broadway credits include Amazing Grace\, Scandalous\, The Scarlet Pimpernel\, Memphis\, Passion\, City of Angels\, The Music of Andrew Lloyd Webber starring Michael Crawford\, Southern Comfort\, Hello Again\, and Chess.\n\n\n\nThe Dickens Parlour Theatre is committed to bringing live entertainment to the community. Various acts are featured weekly- from nationally recognized magicians\, comedians\, musicians\, and guest lecturers. Learn more and get your tickets today at https://dickensparlourtheatre.com/tickets/ or call (302) 829-1071.
X-ALT-DESC;FMTTYPE=text/html:<div style="text-align: center\;"><span style="font-size:14px\;"><span style="font-family:arial\;">The Dickens Parlour Theatre proudly presents:<br />\nBroadway To Bethany<br />\nNew York may have its bright lights\, but the Dickens Parlour Theatre has its stars! The Broadway To Bethany series brings big names and even bigger voices to the beach. Don&rsquo\;t miss out on your chance to see Broadway come to life without the commute to the city!</span></span><br />\n&nbsp\;</div>\n<span style="font-size:14px\;"><span style="font-family:arial\;">Elizabeth Ward Land (10/28-10/29) presents the award-winning tribute show &ldquo\;<strong><em>Still Within the Sound of My Voice: The Songs of Linda Ronstadt</em></strong>.&rdquo\; Pairing the diverse discography of the great Linda Ronstadt with Elizabeth Ward Land&rsquo\;s bold vocals is a treat for the eyes and ears! Elizabeth Ward Land&rsquo\;s Broadway and Off-Broadway credits include&nbsp\;<em>Amazing Grace\, Scandalous\, The Scarlet Pimpernel\, Memphis\, Passion\, City of Angels\, The Music of Andrew Lloyd Webber</em>&nbsp\;starring Michael Crawford\,&nbsp\;<em>Southern Comfort\, Hello Again\,</em>&nbsp\;and&nbsp\;<em>Chess</em>.<br />\n<br />\nThe Dickens Parlour Theatre is committed to bringing live entertainment to the community. Various acts are featured weekly- from nationally recognized magicians\, comedians\, musicians\, and guest lecturers. Learn more and get your tickets today at&nbsp\;<a href="https://dickensparlourtheatre.com/tickets/" target="_blank"><span style="color:#0563C1\;">https://dickensparlourtheatre.com/tickets/</span></a>&nbsp\;or call (302) 829-1071.</span></span>
LOCATION:
UID:e.2126.24509
SEQUENCE:3
DTSTAMP:20260421T160347Z
URL:http://business.thequietresorts.com/events/details/broadway-to-bethany-24509
END:VEVENT

END:VCALENDAR
