BEGIN:VCALENDAR
VERSION:2.0
PRODID:-//ChamberMaster//Event Calendar 2.0//EN
METHOD:PUBLISH
X-PUBLISHED-TTL:P3D
REFRESH-INTERVAL:P3D
CALSCALE:GREGORIAN
BEGIN:VEVENT
DTSTART:20200725T000000Z
DTEND:20200725T020000Z
X-MICROSOFT-CDO-ALLDAYEVENT:FALSE
SUMMARY:Broadway Stars — Under the Stars
DESCRIPTION:Spend an evening with the stars of Disney's Frozen: the Musical. Married couple Caroline Bowman (Elsa) and Austin Colby (Hans) share the soundtrack of their careers including songs from The Sound of Music\, Wicked\, Evita\, Jersey Boys\, Frozen\, and many more. Accompanied by Ben Rauhala of Broadway's Fiddler on the Roof and the Broadway Princess Party.
X-ALT-DESC;FMTTYPE=text/html:<span style="font-size: 14px\;"><span style="font-family: arial\;">Spend an evening with the stars of Disney&#39\;s Frozen: the Musical. Married couple Caroline Bowman (Elsa) and Austin Colby (Hans) share the soundtrack of their careers including songs from The Sound of Music\, Wicked\, Evita\, Jersey Boys\, Frozen\, and many more. Accompanied by Ben Rauhala of Broadway&#39\;s Fiddler on the Roof and the Broadway Princess Party.</span></span>
LOCATION:The Freeman Stage 31750 Lake View Drive Selbyville\, DE 19975
UID:e.2126.21698
SEQUENCE:3
DTSTAMP:20260425T163343Z
URL:http://business.thequietresorts.com/events/details/broadway-stars-under-the-stars-07-24-2020-21698
END:VEVENT

END:VCALENDAR
