BEGIN:VCALENDAR
VERSION:2.0
PRODID:-//ChamberMaster//Event Calendar 2.0//EN
METHOD:PUBLISH
X-PUBLISHED-TTL:P3D
REFRESH-INTERVAL:P3D
CALSCALE:GREGORIAN
BEGIN:VEVENT
DTSTART:20230306T233000Z
DTEND:20230307T003000Z
X-MICROSOFT-CDO-ALLDAYEVENT:FALSE
SUMMARY:Broadband Public Meeting
DESCRIPTION:Delaware Broadband Initiative wants to hear about your digital experience to help state-wide connectivity planning.  Learn what Delaware is doing to improve broadband access for all.  Join the meeting in person at the Dover Public Library or virtually via the Zoom link below.\n\n\n\nhttps://us06web.zoom.us/j/85768850256
X-ALT-DESC;FMTTYPE=text/html:Delaware Broadband Initiative wants to hear about your digital experience to help state-wide connectivity planning.&nbsp\; Learn what Delaware is doing to improve broadband access for all.&nbsp\; Join the meeting in person at the Dover Public Library or virtually via the Zoom link below.<br />\n<br />\nhttps://us06web.zoom.us/j/85768850256
LOCATION:Appoquinimink Library 204 E. Main Street Middletown\, DE 19709 Zoom: https://us06web.zoom.us/j/85768850256
UID:e.2126.25213
SEQUENCE:3
DTSTAMP:20260421T054953Z
URL:http://business.thequietresorts.com/events/details/broadband-public-meeting-25213
END:VEVENT

END:VCALENDAR
