BEGIN:VCALENDAR
VERSION:2.0
PRODID:-//ChamberMaster//Event Calendar 2.0//EN
METHOD:PUBLISH
X-PUBLISHED-TTL:P3D
REFRESH-INTERVAL:P3D
CALSCALE:GREGORIAN
BEGIN:VEVENT
DTSTART:20230302T233000Z
DTEND:20230303T003000Z
X-MICROSOFT-CDO-ALLDAYEVENT:FALSE
SUMMARY:Broadband Public Meeting
DESCRIPTION:Delaware Broadband Initiative wants to hear about your digital experience to help state-wide connectivity planning.  Learn what Delaware is doing to improve broadband access for all.  Join the meeting in person at the Dover Public Library or virtually via the Zoom link below.\n\n\n\nhttps://us06web.zoom.us/j/84859421558
X-ALT-DESC;FMTTYPE=text/html:Delaware Broadband Initiative wants to hear about your digital experience to help state-wide connectivity planning.&nbsp\; Learn what Delaware is doing to improve broadband access for all.&nbsp\; Join the meeting in person at the Dover Public Library or virtually via the Zoom link below.<br />\n<br />\nhttps://us06web.zoom.us/j/84859421558
LOCATION:Georgetown Public Library 123 West Pine Street Georgetown\, DE\, 19947 Zoom: https://us06web.zoom.us/j/84859421558
UID:e.2126.25212
SEQUENCE:3
DTSTAMP:20260421T055945Z
URL:http://business.thequietresorts.com/events/details/broadband-public-meeting-25212
END:VEVENT

END:VCALENDAR
