BEGIN:VCALENDAR
VERSION:2.0
PRODID:-//ChamberMaster//Event Calendar 2.0//EN
METHOD:PUBLISH
X-PUBLISHED-TTL:P3D
REFRESH-INTERVAL:P3D
CALSCALE:GREGORIAN
BEGIN:VEVENT
DTSTART:20230712T150000Z
DTEND:20230712T170000Z
X-MICROSOFT-CDO-ALLDAYEVENT:FALSE
SUMMARY:Brighthouse Shield Luncheon Seminar
DESCRIPTION:You're Invited to a complimentary seminar to learn more about Brighthouse Shield Level Pay Plus Annuities
X-ALT-DESC;FMTTYPE=text/html:You&#39\;re Invited to a complimentary seminar to learn more about Brighthouse Shield Level Pay Plus Annuities
LOCATION:Bear Trap Dunes Clubhouse 7 Clubhouse Drive Ocean View\, De.19970
UID:e.2126.25905
SEQUENCE:3
DTSTAMP:20260420T230104Z
URL:http://business.thequietresorts.com/events/details/brighthouse-shield-luncheon-seminar-25905
END:VEVENT

END:VCALENDAR
