BEGIN:VCALENDAR
VERSION:2.0
PRODID:-//ChamberMaster//Event Calendar 2.0//EN
METHOD:PUBLISH
X-PUBLISHED-TTL:P3D
REFRESH-INTERVAL:P3D
CALSCALE:GREGORIAN
BEGIN:VEVENT
DTSTART:20221103T230000Z
DTEND:20221104T000000Z
X-MICROSOFT-CDO-ALLDAYEVENT:FALSE
SUMMARY:Brian Curry "The Good Liar"
DESCRIPTION:Brian Curry has a secret. He's a mind reader\, a human behavior expert\, and a LIAR. Come find out why The Good Liar show is DC's favorite new date night out. "DC's Most Honest Con Man" Brian will read your mind\, predict your future and blow your mind. Simple. Then he will break down some of the techniques used to create these experiences. "What the hell is happening right now?" Our lies often reveal more than the truth. This is a show that will keep you talking long after the curtain closes. You know it can't all be real\, right? Come get lied to at The Good Liar. As a young man he spent many hours having been made to sit in the corner. The reasons were always innocent\, but endless.\n\n\n\nMagician Brian Curry is one of DC's busiest magicians. He was awarded the National Theatre's 'All Stars of Magic Award' and was called "Northern Virginia's Most Popular Magician" by the Washington Post. As "King of his own imaginary kingdom\," Brian has taken the area by storm being featured on Penn and Teller: Fool Us\, CBS\, Fox\, and NBC news channels.
X-ALT-DESC;FMTTYPE=text/html:<strong>Brian Curry</strong><span style="color:rgb(0\, 0\, 0)\; font-family:tahoma\,geneva\,sans-serif\; font-size:14px">&nbsp\;has a secret. He&rsquo\;s a mind reader\, a human behavior expert\, and a&nbsp\;</span><span style="color:rgb(0\, 0\, 0)\; font-family:tahoma\,geneva\,sans-serif\; font-size:14px">LIAR</span><span style="color:rgb(0\, 0\, 0)\; font-family:tahoma\,geneva\,sans-serif\; font-size:14px">. Come find out why The Good Liar show is DC&rsquo\;s favorite new date night out. &ldquo\;DC&rsquo\;s Most Honest Con Man&rdquo\; Brian will read your mind\, predict your future and blow your mind. Simple. Then he will break down some of the techniques used to create these experiences. &ldquo\;What the hell is happening right now?&rdquo\; Our lies often reveal more than the truth. This is a show that will keep you talking long after the curtain closes. You know it can&rsquo\;t all be real\, right? Come get lied to at The Good Liar. As a young man he spent many hours having been made to sit in the corner. The reasons were always innocent\, but endless.<br />\n<br />\nMagician Brian Curry is one of DC&rsquo\;s busiest magicians. He was awarded the National Theatre&rsquo\;s &lsquo\;All Stars of Magic Award&rsquo\; and was called &ldquo\;Northern Virginia&rsquo\;s Most Popular Magician&rdquo\; by the Washington Post. As &ldquo\;King of his own imaginary kingdom\,&rdquo\; Brian has taken the area by storm being featured on Penn and Teller: Fool Us\,&nbsp\;</span><span style="color:rgb(0\, 0\, 0)\; font-family:tahoma\,geneva\,sans-serif\; font-size:14px">CBS</span><span style="color:rgb(0\, 0\, 0)\; font-family:tahoma\,geneva\,sans-serif\; font-size:14px">\, Fox\, and&nbsp\;</span><span style="color:rgb(0\, 0\, 0)\; font-family:tahoma\,geneva\,sans-serif\; font-size:14px">NBC</span><span style="color:rgb(0\, 0\, 0)\; font-family:tahoma\,geneva\,sans-serif\; font-size:14px">&nbsp\;news channels.</span>
LOCATION:Dickens Parlour Theatre 31810 Good Earth Lane Ocean View\, DE 19970
UID:e.2126.24518
SEQUENCE:3
DTSTAMP:20260421T141824Z
URL:http://business.thequietresorts.com/events/details/brian-curry-the-good-liar-24518
END:VEVENT

END:VCALENDAR
