BEGIN:VCALENDAR
VERSION:2.0
PRODID:-//ChamberMaster//Event Calendar 2.0//EN
METHOD:PUBLISH
X-PUBLISHED-TTL:P3D
REFRESH-INTERVAL:P3D
CALSCALE:GREGORIAN
BEGIN:VEVENT
DTSTART:20210915T180000Z
DTEND:20210915T200000Z
X-MICROSOFT-CDO-ALLDAYEVENT:FALSE
SUMMARY:Brandywine Living at Fenwick Island Community Fair
DESCRIPTION:Join Brandywine Living as we celebrate National Assisted Living Week on Wednesday\, September 15th from 2-4pm for an afternoon of fun\, games\, raffles\, miniature horses\, live entertainment\, and more!\n\nGuest appearances by Lollipop the Clown and Cascading Carlos the Juggler.\n\nEnjoy a homemade ice cream from the local Blue Scoop Ice Cream Truck.\n\nMonetary donations are encouraged to support Diakonia Homeless Shelter located in Berlin\, MD.\n\nThis is an outside event\, with all social distance measures enforced.\n\nMasks are required for the entire event. Hand washing stations will be available.\n\nNo outside food or drink should be consumed at this event.\n\nPublic restrooms will NOT be available.\n\nParking will be available on Arrington Drive.\n\nPlease RSVP to hcronin@brandycare.com by September 8\, 2021.
X-ALT-DESC;FMTTYPE=text/html:<span style="font-size:14px\;"><span style="font-family:arial\;">Join Brandywine Living as we celebrate National Assisted Living Week on Wednesday\, September 15th from 2-4pm for an afternoon of fun\, games\, raffles\, miniature horses\, live entertainment\, and more!<br />\nGuest appearances by Lollipop the Clown and Cascading Carlos the Juggler.<br />\nEnjoy a homemade ice cream from the local Blue Scoop Ice Cream Truck.<br />\nMonetary donations are encouraged to support Diakonia Homeless Shelter located in Berlin\, MD.<br />\nThis is an outside event\, with all social distance measures enforced.<br />\nMasks are required for the entire event. Hand washing stations will be available.<br />\nNo outside food or drink should be consumed at this event.<br />\nPublic restrooms will NOT be available.<br />\nParking will be available on Arrington Drive.<br />\nPlease RSVP to hcronin@brandycare.com by September 8\, 2021.</span></span><br />\n&nbsp\;
LOCATION:Brandywine Living at Fenwick Island 21111 Arrington Drive\, Selbyville\, DE 19975
UID:e.2126.22820
SEQUENCE:3
DTSTAMP:20260424T135206Z
URL:http://business.thequietresorts.com/events/details/brandywine-living-at-fenwick-island-community-fair-22820
END:VEVENT

END:VCALENDAR
