BEGIN:VCALENDAR
VERSION:2.0
PRODID:-//ChamberMaster//Event Calendar 2.0//EN
METHOD:PUBLISH
X-PUBLISHED-TTL:P3D
REFRESH-INTERVAL:P3D
CALSCALE:GREGORIAN
BEGIN:VEVENT
DTSTART:20200327T220000Z
DTEND:20200328T010000Z
X-MICROSOFT-CDO-ALLDAYEVENT:FALSE
SUMMARY:Bourbon Dinner @ Bethany Blues
DESCRIPTION:The Dinner will include:\n\n	Limited seating for 16 guests\n	4 Course dinner with welcome cocktail and appetizer\n	5 Exclusive Bourbon selections from our private stash to pair with your meal\n\n Join us in the Bethany location\, starting at 6pm\, tickets are $120 + 20% gratuity ($24)\n\nTICKETS ARE NOT REFUNDABLE AND DATES ARE NOT TRANSFERABLE
X-ALT-DESC;FMTTYPE=text/html:<span style="font-size: 14px\;"><span style="font-family: arial\;">The Dinner will include:</span></span>\n<ul>\n	<li><span style="font-size: 14px\;"><span style="font-family: arial\;">Limited seating for 16 guests</span></span></li>\n	<li><span style="font-size: 14px\;"><span style="font-family: arial\;">4 Course dinner with welcome cocktail and appetizer</span></span></li>\n	<li><span style="font-size: 14px\;"><span style="font-family: arial\;">5 Exclusive Bourbon selections from our private stash to pair with your meal</span></span></li>\n</ul>\n<span style="font-size: 14px\;"><span style="font-family: arial\;"> <span style="color: rgb(15\, 15\, 15)\;">Join us&nbsp\;in&nbsp\;the Bethany location\, starting at 6pm\, tickets are&nbsp\;$120&nbsp\;+ 20% gratuity ($24)</span></span></span>\n\n<p><span style="font-size: 14px\;"><span style="font-family: arial\;">TICKETS ARE NOT REFUNDABLE AND DATES ARE NOT TRANSFERABLE&nbsp\;</span></span></p>\n
LOCATION:6 N Pennsylvania Ave Bethany Beach\, DE 19930
UID:e.2126.20320
SEQUENCE:3
DTSTAMP:20260425T224947Z
URL:http://business.thequietresorts.com/events/details/bourbon-dinner-20320
END:VEVENT

END:VCALENDAR
