BEGIN:VCALENDAR
VERSION:2.0
PRODID:-//ChamberMaster//Event Calendar 2.0//EN
METHOD:PUBLISH
X-PUBLISHED-TTL:P3D
REFRESH-INTERVAL:P3D
CALSCALE:GREGORIAN
BEGIN:VEVENT
DTSTART:20221105T193000Z
DTEND:20221105T233000Z
X-MICROSOFT-CDO-ALLDAYEVENT:FALSE
SUMMARY:BOUNTY: Field to Feast Dinner at Story Hill Farm
DESCRIPTION:An immersive evening of open fire cooking by James Beard nominee Chef Matthew Kern and Gerald Allen. Five harvest-driven courses will be served with full service natural wine pairings by Sam Anderson of Ouro Wines all hosted at Story Hill Farm\, Southern Delaware's standard bearer for regenerative agriculture\, pollinator habitat and home to rare heritage breed animals. The meal will be accompanied by a cocktail hour\, set in a gala tent surrounded by the fields at Story Hill Farm with live music by Homestead Bluegrass Band. Offsite parking and transportation to the farm via black van service is included.\n\nWe've been working for months on this special evening of collaboration and bountiful feasting and are really excited to host you as we approach the holiday season.
X-ALT-DESC;FMTTYPE=text/html:<p>An immersive evening of open fire cooking by James Beard nominee Chef Matthew Kern and Gerald Allen. Five harvest-driven courses will be served with full service natural wine pairings by Sam Anderson of Ouro Wines all hosted at Story Hill Farm\, Southern Delaware&rsquo\;s standard bearer for regenerative agriculture\, pollinator habitat and home to rare heritage breed animals. The meal will be accompanied by a cocktail hour\, set in a gala tent surrounded by the fields at Story Hill Farm with live music by Homestead Bluegrass Band. Offsite parking and transportation to the farm via black van service is included.</p>\n\n<p>We&rsquo\;ve been working for months on this special evening of collaboration and bountiful feasting and are really excited to host you as we approach the holiday season.</p>\n
LOCATION:Story Hill Farm 34645 Winding Road Frankford\, DE PARKING for Event Lower Sussex Little League Parking Lot 34476 Pyle Center Rd Frankford\, DE
UID:e.2126.24516
SEQUENCE:3
DTSTAMP:20260421T142210Z
URL:http://business.thequietresorts.com/events/details/bounty-field-to-feast-dinner-at-story-hill-farm-24516
END:VEVENT

END:VCALENDAR
