BEGIN:VCALENDAR
VERSION:2.0
PRODID:-//ChamberMaster//Event Calendar 2.0//EN
METHOD:PUBLISH
X-PUBLISHED-TTL:P3D
REFRESH-INTERVAL:P3D
CALSCALE:GREGORIAN
BEGIN:VEVENT
DTSTART:20230701T130000Z
DTEND:20230701T170000Z
X-MICROSOFT-CDO-ALLDAYEVENT:FALSE
SUMMARY:Book Sale
DESCRIPTION:Stop by St. Martha's to stock up on beach reads for the summer.   There are countless used books to choose from - hardback\, paperback\, fiction\, non-fiction and every genre you can imagine!
X-ALT-DESC;FMTTYPE=text/html:<span style="font-size:14px"><span style="font-family:comic sans ms">Stop by St. Martha&#39\;s to stock up on beach reads for the summer.&nbsp\; &nbsp\;There are countless used books to choose from - hardback\, paperback\, fiction\, non-fiction and every genre you can imagine!</span>&nbsp\;</span>
LOCATION:117 Maplewood Street Bethany Beach\, DE 19930
UID:e.2126.26008
SEQUENCE:3
DTSTAMP:20260420T230307Z
URL:http://business.thequietresorts.com/events/details/book-sale-26008
END:VEVENT

END:VCALENDAR
