BEGIN:VCALENDAR
VERSION:2.0
PRODID:-//ChamberMaster//Event Calendar 2.0//EN
METHOD:PUBLISH
X-PUBLISHED-TTL:P3D
REFRESH-INTERVAL:P3D
CALSCALE:GREGORIAN
BEGIN:VEVENT
DTSTART:20230608T223000Z
DTEND:20230609T000000Z
X-MICROSOFT-CDO-ALLDAYEVENT:FALSE
SUMMARY:Book Launch - Chickens on Delmarva (100 years of Backyard Flocks\, Farms\, and Friends)
DESCRIPTION:The Historic Village in Ocean View announces its first book launch!\nAuthor\, chicken keeper and Village Board Member\, Dr. Joanne K. Guilfoil\, will discuss and read from her new book: \n\nChickens on Delmarva\n\n100 Years of Backyard Flocks\,\n\nFarms\, and Friends\n\nThe evening will prove to be a lively and animated discussion\, with readings on the best stories from decades of chickens on Delmarva\, including: \n\n\n	A mysterious liquor stash in a Bethany chicken coop \n	Sex-reversal in chickens \n	Perdue chicken in Baghdad and Mitzi Perdue's visit to the White House with Frank \n	Cecile Steele and the broiler industry \n	Fanciers\, Delaware Blue Hens and local 4-Hers \n\n\nPhotos of Joanne's own registered flock will be displayed and will shed some light on the part that Selbyville\, Delaware played in the colorful story of chickens on Delmarva. \n\nWine and snacks will be available and one lucky guest will actually win a door prize .a book! We hope you will make your way to the Historic Village for this fun evening of celebrating chickens on Delmarva!
X-ALT-DESC;FMTTYPE=text/html:<span style="font-size:14px"><span style="font-family:arial"><span style="color:rgb(34\, 34\, 34)">The Historic Village in Ocean View announces its first book launch!</span></span></span>\n<p><span style="font-size:14px"><span style="font-family:arial"><span style="color:rgb(34\, 34\, 34)">Author\, chicken keeper and Village Board Member\, Dr. Joanne K. Guilfoil\, will discuss and read from her new book:&nbsp\;</span></span></span></p>\n\n<p><span style="font-size:14px"><span style="font-family:arial"><strong><span style="color:rgb(153\, 0\, 51)">Chickens on Delmarva<br />\n100 Years of Backyard Flocks\,<br />\nFarms\, and Friends</span></strong></span></span></p>\n\n<p><span style="font-size:14px"><span style="font-family:arial"><span style="color:rgb(34\, 34\, 34)">The evening will prove to be a lively and animated discussion\, with readings on the best stories from decades of chickens on Delmarva\, including:&nbsp\;</span></span></span></p>\n\n<ul>\n	<li><span style="font-size:14px"><span style="font-family:arial">A mysterious liquor stash in a Bethany chicken coop&nbsp\;</span></span></li>\n	<li><span style="font-size:14px"><span style="font-family:arial">Sex-reversal in chickens&nbsp\;</span></span></li>\n	<li><span style="font-size:14px"><span style="font-family:arial">Perdue chicken in Baghdad and Mitzi Perdue&lsquo\;s visit to the White House with Frank&nbsp\;</span></span></li>\n	<li><span style="font-size:14px"><span style="font-family:arial">Cecile Steele and the broiler industry&nbsp\;</span></span></li>\n	<li><span style="font-size:14px"><span style="font-family:arial">Fanciers\, Delaware Blue Hens and local&nbsp\;4-Hers&nbsp\;</span></span></li>\n</ul>\n\n<p><span style="font-size:14px"><span style="font-family:arial">Photos of&nbsp\;<span style="color:rgb(34\, 34\, 34)">Joanne&rsquo\;s own registered flock will be displayed and will shed some light on the part that Selbyville\, Delaware played in the colorful story of chickens on Delmarva.&nbsp\;</span></span></span></p>\n\n<p><span style="font-size:14px"><span style="font-family:arial"><span style="color:rgb(34\, 34\, 34)">Wine and snacks will be available and one lucky guest will actually win a door prize&hellip\;.a book!&nbsp\;</span><span style="color:rgb(34\, 34\, 34)">We hope you will make your way to the Historic Village for this fun evening of celebrating chickens on Delmarva!</span></span></span></p>\n
LOCATION:Hall's Store Visitor's and Education Center 32 West Avenue\, Ocean View\, Delaware 19970
UID:e.2126.25564
SEQUENCE:3
DTSTAMP:20260421T005239Z
URL:http://business.thequietresorts.com/events/details/book-lauch-chickens-on-delmarva-100-years-of-backyard-flocks-farms-and-friends-25564
END:VEVENT

END:VCALENDAR
