BEGIN:VCALENDAR
VERSION:2.0
PRODID:-//ChamberMaster//Event Calendar 2.0//EN
METHOD:PUBLISH
X-PUBLISHED-TTL:P3D
REFRESH-INTERVAL:P3D
CALSCALE:GREGORIAN
BEGIN:VEVENT
DTSTART:20200211T000000Z
DTEND:20200211T013000Z
X-MICROSOFT-CDO-ALLDAYEVENT:FALSE
SUMMARY:Bonsai Workshop at Bethany Blues
DESCRIPTION:Use Local Code DE$10 For $10 Off This Event! Learn About Bonsai and Create this Unique Garde While Enjoying The Fabulous Food and Drinks at Bethany Blues in Bethany. Here is What You Get With This Planting Event: Juniper Plant Sized for Bosai\, Potting Soil\, Natural and Colored Stones\, Moss and Themed D cor. NO Green Thumb.... No Problem\, Our Experienced Gardeners Will Assist in Planting and Care of Your Bonsai! Come #PlantCreatively in #BethnayBeach With #PlantNite by #Yaymaker
X-ALT-DESC;FMTTYPE=text/html:<span style="font-size: 14px\;"><span style="font-family: arial\;">Use Local Code DE$10 For $10 Off This Event! Learn About Bonsai and Create this Unique Garde While Enjoying The Fabulous Food and Drinks at Bethany Blues in Bethany. Here is What You Get With This Planting Event: Juniper Plant Sized for Bosai\, Potting Soil\, Natural and Colored Stones\, Moss and Themed D&eacute\;cor. NO Green Thumb.... No Problem\, Our Experienced Gardeners Will Assist in Planting and Care of Your Bonsai! Come #PlantCreatively in #BethnayBeach With #PlantNite by #Yaymaker</span></span>
LOCATION:Bethany Blues 6 N Pennsylvania Ave Bethany Beach\, DE 19930
UID:e.2126.20127
SEQUENCE:3
DTSTAMP:20260426T003122Z
URL:http://business.thequietresorts.com/events/details/bonsai-workshop-at-bethany-blues-20127
END:VEVENT

END:VCALENDAR
