BEGIN:VCALENDAR
VERSION:2.0
PRODID:-//ChamberMaster//Event Calendar 2.0//EN
METHOD:PUBLISH
X-PUBLISHED-TTL:P3D
REFRESH-INTERVAL:P3D
CALSCALE:GREGORIAN
BEGIN:VEVENT
DTSTART:20221007T220000Z
DTEND:20221008T000000Z
X-MICROSOFT-CDO-ALLDAYEVENT:FALSE
SUMMARY:Bonfires on the Beach
DESCRIPTION:Bonfires on the Beach fire up again Fridays in October 6-8 PM. Marshmallows and sticks provided.
X-ALT-DESC;FMTTYPE=text/html:Bonfires on the Beach fire up again Fridays in October 6-8 PM. Marshmallows and sticks provided.
LOCATION:Off Campbell Place\, Bethany Beach
UID:e.2126.24046
SEQUENCE:3
DTSTAMP:20260421T160607Z
URL:http://business.thequietresorts.com/events/details/bonfires-on-the-beach-10-07-2022-24046
END:VEVENT

END:VCALENDAR
