BEGIN:VCALENDAR
VERSION:2.0
PRODID:-//ChamberMaster//Event Calendar 2.0//EN
METHOD:PUBLISH
X-PUBLISHED-TTL:P3D
REFRESH-INTERVAL:P3D
CALSCALE:GREGORIAN
BEGIN:VEVENT
DTSTART:20220704T233000Z
DTEND:20220704T233000Z
X-MICROSOFT-CDO-ALLDAYEVENT:FALSE
SUMMARY:Boat House Row
DESCRIPTION:Prepare to be rocked...gently. Boat House Row delivers a Yacht Rock experience like no other. Re-discover the silky sounds of artists like Hall & Oates\, Christopher Cross\, Michael McDonald\, The Doobie Brothers\, Toto\, and many more. Stick around for the fireworks after the show. boathouserowrock.com
X-ALT-DESC;FMTTYPE=text/html:<span dir="ltr" style="font-family:sans-serif\; font-size:13.4px">Prepare to be</span><span dir="ltr" style="font-family:sans-serif\; font-size:13.4px"> rocked</span><span dir="ltr" style="font-family:sans-serif\; font-size:13.4px">...</span><span dir="ltr" style="font-family:sans-serif\; font-size:13.4px">gently</span><span dir="ltr" style="font-family:sans-serif\; font-size:13.4px">.</span><span dir="ltr" style="font-family:sans-serif\; font-size:13.4px"> </span><span dir="ltr" style="font-family:sans-serif\; font-size:13.4px">Boat</span><span dir="ltr" style="font-family:sans-serif\; font-size:13.4px"> House Row</span><span dir="ltr" style="font-family:sans-serif\; font-size:13.4px"> </span><span dir="ltr" style="font-family:sans-serif\; font-size:13.4px">delivers</span><span dir="ltr" style="font-family:sans-serif\; font-size:13.4px"> </span><span dir="ltr" style="font-family:sans-serif\; font-size:13.4px">a Yacht Rock</span><span dir="ltr" style="font-family:sans-serif\; font-size:13.4px"> exp</span><span dir="ltr" style="font-family:sans-serif\; font-size:13.4px">erience like no other.</span><span dir="ltr" style="font-family:sans-serif\; font-size:13.4px"> </span><span dir="ltr" style="font-family:sans-serif\; font-size:13.4px">Re</span><span dir="ltr" style="font-family:sans-serif\; font-size:13.4px">-</span><span dir="ltr" style="font-family:sans-serif\; font-size:13.4px">discover</span><span dir="ltr" style="font-family:sans-serif\; font-size:13.4px"> </span><span dir="ltr" style="font-family:sans-serif\; font-size:13.4px">the</span><span dir="ltr" style="font-family:sans-serif\; font-size:13.4px"> silky sounds of artists like Hall &amp\; Oates\,</span><span dir="ltr" style="font-family:sans-serif\; font-size:13.4px"> Christopher Cross\, Michael McDonald\,</span><span dir="ltr" style="font-family:sans-serif\; font-size:13.4px"> The Doobie Brothers\, Toto</span><span dir="ltr" style="font-family:sans-serif\; font-size:13.4px">\,</span><span dir="ltr" style="font-family:sans-serif\; font-size:13.4px"> </span><span dir="ltr" style="font-family:sans-serif\; font-size:13.4px">and many</span><span dir="ltr" style="font-family:sans-serif\; font-size:13.4px"> more.</span><span dir="ltr" style="font-family:sans-serif\; font-size:13.4px"> </span><span dir="ltr" style="font-family:sans-serif\; font-size:13.4px">Stick around for the fireworks</span><span dir="ltr" style="font-family:sans-serif\; font-size:13.4px"> after the show</span><span dir="ltr" style="font-family:sans-serif\; font-size:13.4px">.</span><span dir="ltr" style="font-family:sans-serif\; font-size:13.4px"> </span><span dir="ltr" style="font-family:sans-serif\; font-size:13.4px">boathouserowrock.com</span>
LOCATION:Bethany Beach Bandstand Garfield Parkway & Boardwalk\, Bethany Beach
UID:e.2126.23759
SEQUENCE:3
DTSTAMP:20260421T204820Z
URL:http://business.thequietresorts.com/events/details/boat-house-row-23759
END:VEVENT

END:VCALENDAR
