BEGIN:VCALENDAR
VERSION:2.0
PRODID:-//ChamberMaster//Event Calendar 2.0//EN
METHOD:PUBLISH
X-PUBLISHED-TTL:P3D
REFRESH-INTERVAL:P3D
CALSCALE:GREGORIAN
BEGIN:VEVENT
DTSTART:20230407T190000Z
DTEND:20230407T210000Z
X-MICROSOFT-CDO-ALLDAYEVENT:FALSE
SUMMARY:Boardwalk Bunny Bash at Millville Boardwalk
DESCRIPTION:The Boardwalk Bunny Bash is back for another great year at the Millville Boardwalk.\n\nYour ticket includes:\n\n\n	Meet and Greet and Photo Opp with the Easter Bunny!\n	Ongoing Easter Egg candy hunt\n	1 Scoop of Agape Creamery Ice Cream per guest\n	$5 worth of Captains Quarter's Arcade Tokens per guest\n	Unlimited Mini Golf All day long per guest\n	Kids Crafts!\n\n\n \n\nAll attendees (children and parents alike) are required to purchase an admission ticket. We've made it super easy and affordable with our discounted family packs of tickets!\n\n\n\nClick here for tickets!
X-ALT-DESC;FMTTYPE=text/html:<p>The Boardwalk Bunny Bash is back for another great year at the Millville Boardwalk.</p>\n\n<p>Your ticket includes:</p>\n\n<ul>\n	<li>Meet and Greet and Photo Opp with the Easter Bunny!</li>\n	<li>Ongoing Easter Egg candy hunt</li>\n	<li>1 Scoop of Agape Creamery Ice Cream per guest</li>\n	<li>$5 worth of Captains Quarter&#39\;s Arcade Tokens per guest</li>\n	<li>Unlimited Mini Golf All day long per guest</li>\n	<li>Kids Crafts!</li>\n</ul>\n\n<p>&nbsp\;</p>\n\n<p>All attendees (children and parents alike) are required to purchase an admission ticket. We&#39\;ve made it super easy and affordable with our discounted family packs of tickets!<br />\n<br />\n<span style="font-size:16px"><strong><a href="https://www.eventbrite.com/e/boardwalk-bunny-bash-2023-tickets-585813131847">Click here for tickets</a>!</strong></span></p>\n
LOCATION:Millville Boardwalk 35287 Atlantic Ave. Millville\, DE 19967
UID:e.2126.25265
SEQUENCE:3
DTSTAMP:20260421T040331Z
URL:http://business.thequietresorts.com/events/details/boardwalk-bunny-bash-at-millville-boardwalk-25265
END:VEVENT

END:VCALENDAR
