BEGIN:VCALENDAR
VERSION:2.0
PRODID:-//ChamberMaster//Event Calendar 2.0//EN
METHOD:PUBLISH
X-PUBLISHED-TTL:P3D
REFRESH-INTERVAL:P3D
CALSCALE:GREGORIAN
BEGIN:VEVENT
DTSTART:20240628T140000Z
DTEND:20240628T160000Z
X-MICROSOFT-CDO-ALLDAYEVENT:FALSE
SUMMARY:Board & Brush Family Friendly Workshop
DESCRIPTION:Looking for a fun experience to share with your children? Join us for our Parent & Child Workshop! Choose a project for each person from the available options. We provide all the materials and instruct you step-by-step to create a beautiful piece for your home or for a gift. Choose from a variety of paint and wood stain colors in the workshop. Pre-registration is required.\n\n\n\nhttps://boardandbrush.com/bethanybeach/events/06-28-2024-10am-1130am/
X-ALT-DESC;FMTTYPE=text/html:<span style="color:rgb(74\, 74\, 74)\; font-family:droid_sansregular\,sans-serif\; font-size:16px">Looking for a fun experience to share with your children? Join us for our Parent &amp\; Child Workshop! Choose a project for each person from the available options. We provide all the materials and instruct you step-by-step to create a beautiful piece for your home or for a gift. Choose from a variety of paint and wood stain colors in the workshop. Pre-registration is required.</span><br />\n<br />\nhttps://boardandbrush.com/bethanybeach/events/06-28-2024-10am-1130am/
LOCATION:Board & Brush Bethany Beach 30447 Cedar Neck Rd UNIT 2 Ocean View\, DE
UID:e.2126.30331
SEQUENCE:3
DTSTAMP:20260420T104416Z
URL:http://business.thequietresorts.com/events/details/board-brush-family-friendly-workshop-06-28-2024-30331
END:VEVENT

END:VCALENDAR
