BEGIN:VCALENDAR
VERSION:2.0
PRODID:-//ChamberMaster//Event Calendar 2.0//EN
METHOD:PUBLISH
X-PUBLISHED-TTL:P3D
REFRESH-INTERVAL:P3D
CALSCALE:GREGORIAN
BEGIN:VEVENT
DTSTART:20240504T190000Z
DTEND:20240504T220000Z
X-MICROSOFT-CDO-ALLDAYEVENT:FALSE
SUMMARY:Board & Brush - DIY Benches & Planters Workshop
DESCRIPTION:Looking to spruce up your front porch or backyard patio? Join us for a DIY Bench & Porch Planter Workshop! Select a design from the available options. We provide all the materials and instruct you step-by-step to create a beautiful piece for yourself or for a gift. Choose from a variety of paint and wood stain colors in the workshop. Pre-registration is required\, we look forward to seeing you soon!\nhttps://boardandbrush.com/bethanybeach/events/diy-porch-planter-workshop-05-04-2024-3pm-6pm/
X-ALT-DESC;FMTTYPE=text/html:<div>Looking to spruce up your front porch or backyard patio? Join us for a DIY Bench &amp\; Porch Planter Workshop! Select a design from the available options. We provide all the materials and instruct you step-by-step to create a beautiful piece for yourself or for a gift. Choose from a variety of paint and wood stain colors in the workshop. Pre-registration is required\, we look forward to seeing you soon!</div>\nhttps://boardandbrush.com/bethanybeach/events/diy-porch-planter-workshop-05-04-2024-3pm-6pm/
LOCATION:Board and Brush 30447 Cedar Neck Rd UNIT 2 Ocean View DE 19970
UID:e.2126.29235
SEQUENCE:3
DTSTAMP:20260420T041822Z
URL:http://business.thequietresorts.com/events/details/board-brush-diy-benches-planters-workshop-29235
END:VEVENT

END:VCALENDAR
