BEGIN:VCALENDAR
VERSION:2.0
PRODID:-//ChamberMaster//Event Calendar 2.0//EN
METHOD:PUBLISH
X-PUBLISHED-TTL:P3D
REFRESH-INTERVAL:P3D
CALSCALE:GREGORIAN
BEGIN:VEVENT
DTSTART:20221112T010000Z
DTEND:20221112T040000Z
X-MICROSOFT-CDO-ALLDAYEVENT:FALSE
SUMMARY:Black Panther 2: Wakanda Forever ALL WHITE PRIVATE SCREENING
DESCRIPTION:Black Panther 2: Wakanda Forever - All White Private Movie Screening Event\n\nEpic Entertainment and Media presents a PRIVATE MOVIE SCREENING of the higly anticipated Black Panther 2: Wakanda Forever.\n\n\n\nCome dressed in your ALL White (or African Attire) and let's make this night a THING!\n\n\n\nIn honor of actor Chadwick Boseman and our cancer champions\, a portion of the proceeds will be donated to cancer support services.\n\n\n\nSeating is LIMITED so grab a ticket today!!!!!! They're the good recliner seats too!\n\n\n\nTickets:\n\n\n\n$35 VIP - Early Admission and Unlimited Popcorn & Drink\n\n$25 - General Admission\n\n\n\nPurchase tickets on Eventbrite - https://www.eventbrite.com/e/wakanda-forever-all-white-movie-premiere-tickets-453838251427\n\n\n\nALL WHITE or African Attire encouraged - don't have either... JUST COME AND ENJOY THE MOVIE!\n\n**** MASKS ARE STRONGLY ENCOURAGED ***
X-ALT-DESC;FMTTYPE=text/html:<div>Black Panther 2: Wakanda Forever - All White Private Movie Screening Event</div>\n\n<div>Epic Entertainment and Media presents a PRIVATE MOVIE SCREENING of the higly anticipated Black Panther 2: Wakanda Forever.<br />\n<br />\nCome dressed in your ALL White (or African Attire) and let&#39\;s make this night a THING!<br />\n<br />\nIn honor of actor Chadwick Boseman and our cancer champions\, a portion of the proceeds will be donated to cancer support services.<br />\n<br />\nSeating is LIMITED so grab a ticket today!!!!!! They&#39\;re the good recliner seats too!<br />\n<br />\nTickets:<br />\n<br />\n$35 VIP - Early Admission and Unlimited Popcorn &amp\; Drink<br />\n$25 - General Admission<br />\n<br />\nPurchase tickets on Eventbrite -&nbsp\;<a href="https://www.eventbrite.com/e/wakanda-forever-all-white-movie-premiere-tickets-453838251427">https://www.eventbrite.com/e/wakanda-forever-all-white-movie-premiere-tickets-453838251427</a><br />\n<br />\nALL WHITE or African Attire encouraged - don&#39\;t have either... JUST COME AND ENJOY THE MOVIE!<br />\n**** MASKS ARE STRONGLY ENCOURAGED ***</div>\n
LOCATION:
UID:e.2126.24771
SEQUENCE:3
DTSTAMP:20260421T141957Z
URL:http://business.thequietresorts.com/events/details/black-panther-2-wakanda-forever-all-white-private-screening-24771
END:VEVENT

END:VCALENDAR
