BEGIN:VCALENDAR
VERSION:2.0
PRODID:-//ChamberMaster//Event Calendar 2.0//EN
METHOD:PUBLISH
X-PUBLISHED-TTL:P3D
REFRESH-INTERVAL:P3D
CALSCALE:GREGORIAN
BEGIN:VEVENT
DTSTART:20221125T163000Z
DTEND:20221127T050000Z
X-MICROSOFT-CDO-ALLDAYEVENT:FALSE
SUMMARY:Black Friday Gift Cards at The Salted Rim Margarita Bar & Grille
DESCRIPTION:Black Friday Gift Cards\n\n\n\nFriday - 11/25/22\n\nSaturday -- 11/26/22\n\nSunday - 11/27/22\n\n\n\nWhen you purchase a \n\n$100 gift card receive a $25 Promo gift card free\n\n\n\nWhen you purchase a \n\n$50 gift card receive a $10 Promo gift card free\n\n\n\nGift Cards will be issued in these increments ONLY\,\n\ncannot be broken down into smaller increments.\n\n\n\nCan't make it to the restaurant to purchase your Black Friday gift card...then order your Black Friday gift card online through our website saltedrimde.com starting at 12:00am Friday\, 11/25/22 ending Sunday\, 11/27/22 at 11:59pm.  Orders placed outside this window will not be honored for the buy one get one promotion.\n\n\n\nOrders placed online are ONLY available to be mailed USPS certified mail with\n\ntracking (NOT AVAILABLE FOR PICKUP).\n\n\n\n\n\nGift cards and Promo gift cards are not valid for events or gratuity.\n\nPromo gift cards may not be used until 1/2/23.
X-ALT-DESC;FMTTYPE=text/html:<div style="text-align:center"><span style="color:#FF0000"><span style="font-family:comic sans ms"><span style="font-size:18px"><strong>Black Friday Gift Cards</strong></span></span></span><br />\n<br />\n<span style="font-size:14px"><span style="font-family:arial">Friday - 11/25/22<br />\nSaturday -- 11/26/22<br />\nSunday - 11/27/22<br />\n<br />\nWhen you purchase a&nbsp\;<br />\n<span style="color:#0000FF"><strong>$100</strong></span> gift card receive a <span style="color:#0000FF"><strong>$25</strong></span>&nbsp\;Promo gift card free<br />\n<br />\nWhen you purchase a&nbsp\;<br />\n<span style="color:#0000FF"><strong>$50</strong></span> gift card receive a <span style="color:#0000FF"><strong>$10&nbsp\;</strong></span>Promo gift card free<br />\n<br />\n<span style="font-size:12px"><em><span style="color:#0000FF"><strong>Gift Cards will be issued in these increments ONLY\,<br />\ncannot be broken down into smaller increments.</strong></span></em></span><br />\n<br />\n<span style="font-family:comic sans ms"><em>Can&#39\;t make it to the restaurant to purchase your Black Friday gift card...then order your Black Friday gift card online through our website <span style="color:#0000FF">saltedrimde.com&nbsp\;</span>starting at 12:00am Friday\, 11/25/22 ending Sunday\, 11/27/22 at 11:59pm.&nbsp\; Orders placed outside this window will not be honored for the buy one get one promotion.<br />\n<br />\n<strong>Orders placed online are <span style="color:#FF0000">ONLY</span> available to be mailed USPS certified mail with<br />\ntracking (<span style="color:#FF0000">NOT AVAILABLE FOR PICKUP</span>).</strong></em></span><br />\n<br />\n<br />\nGift cards and Promo gift cards are not valid for events or gratuity.</span></span></div>\n\n<div style="text-align:center"><span style="font-size:14px"><span style="font-family:arial">Promo gift cards may not be used until 1/2/23.</span></span></div>\n
LOCATION:The Salted Rim Margarita Bar & Grille 35553 Atlantic Avenue Millville\, DE 19967 302-537-7373
UID:e.2126.24781
SEQUENCE:3
DTSTAMP:20260421T142514Z
URL:http://business.thequietresorts.com/events/details/black-friday-gift-cards-at-the-salted-rim-margarita-bar-grille-11-25-2022-24781
END:VEVENT

END:VCALENDAR
