BEGIN:VCALENDAR
VERSION:2.0
PRODID:-//ChamberMaster//Event Calendar 2.0//EN
METHOD:PUBLISH
X-PUBLISHED-TTL:P3D
REFRESH-INTERVAL:P3D
CALSCALE:GREGORIAN
BEGIN:VEVENT
DTSTART:20240205T200000Z
DTEND:20240210T050000Z
X-MICROSOFT-CDO-ALLDAYEVENT:FALSE
SUMMARY:Big Game Take-out Specials at the Salted Rim
DESCRIPTION:The Big Game\n\n\n\nTAKE-OUT PARTY PLATTER SPECIALS\n\n\n\nPlace your Take-Out Party Platter Specials order by\n\nFebruary 9th for pick-up between 2 - 6pm on game day\, February 11th\n\n\n\nTaco Bar for 10\n\nBaked Ziti\n\nSeafood Lover's Dream\n\nSlider Central\n\nCheesesteak Eggrolls\n\n50 Wings\n\n25 Jumbo Chicken Tenders\n\n\n\nOrder Online by clicking on the link or call Cindy 410-371-9657 to place your Take-Out Party Platter order\n\nhttps://order.spoton.com/dbs-salted-rim-12958/millville-de/6409064419daa65fdfda5e3c\n\n\n\nOR \n\n\n\nJoin us at the restaurant to watch the Big Game\n\nand enjoy our in house Big Game Specials
X-ALT-DESC;FMTTYPE=text/html:<div style="text-align:center"><strong><span style="font-size:20px"><span style="font-family:verdana"><em>The Big Game</em></span></span><br />\n<br />\n<span style="font-size:18px"><span style="font-family:comic sans ms"><span style="color:#FF0000">TAKE-OUT PARTY PLATTER SPECIALS</span></span><br />\n<br />\nPlace your Take-Out Party Platter Specials order by<br />\nFebruary 9th for pick-up between 2 - 6pm on game day\, February 11th<br />\n<br />\n<span style="font-family:tahoma">Taco Bar for 10<br />\nBaked Ziti<br />\nSeafood Lover&#39\;s Dream<br />\nSlider Central<br />\nCheesesteak Eggrolls<br />\n50 Wings<br />\n25 Jumbo Chicken Tenders</span></span></strong><br />\n<br />\n<span style="font-size:18px"><span style="font-family:tahoma">Order Online by clicking on the link or call Cindy 410-371-9657 to place your Take-Out Party Platter order<br />\n<a href="https://order.spoton.com/dbs-salted-rim-12958/millville-de/6409064419daa65fdfda5e3c">https://order.spoton.com/dbs-salted-rim-12958/millville-de/6409064419daa65fdfda5e3c</a></span></span><br />\n<br />\n<strong><span style="font-size:18px"><span style="font-family:tahoma">OR&nbsp\;<br />\n<br />\nJoin us at the restaurant to watch the Big Game<br />\nand enjoy our in house Big Game Specials</span></span></strong></div>\n
LOCATION:The Salted Rim Margarita Bar & Grille 35553 Atlantic Avenue Millville\, DE 19967 302-537-7373
UID:e.2126.28271
SEQUENCE:3
DTSTAMP:20260420T094644Z
URL:http://business.thequietresorts.com/events/details/big-game-take-out-specials-at-the-salted-rim-28271
END:VEVENT

END:VCALENDAR
