BEGIN:VCALENDAR
VERSION:2.0
PRODID:-//ChamberMaster//Event Calendar 2.0//EN
METHOD:PUBLISH
X-PUBLISHED-TTL:P3D
REFRESH-INTERVAL:P3D
CALSCALE:GREGORIAN
BEGIN:VEVENT
DTSTART:20231112T123000Z
DTEND:20231112T170000Z
X-MICROSOFT-CDO-ALLDAYEVENT:FALSE
SUMMARY:Bethany Brewing and Center for the Inland Bays Horseshoe Crab Hustle
DESCRIPTION:The Horseshoe Crab Hustle is a brand new 5K & 1 mile walk hosted by Bethany Brewing to benefit the Delaware Center for the Inland Bays. The event begins and ends at Bethany Brewing and will primarily take place on the trails of Fresh Pond State Park. Registrants will not only enjoy a fall run/walk surrounded by the beauty of nature\, but will have the opportunity to enjoy fresh brewed craft beers\, tasty post-race fare\, fresh shucked oysters\, live music\, raffles to benefit the bays\, and lost of fun all while supporting the mission of the Center to protect\, restore\, and preserve the Inland Bays. The Center will also have information tables about their various projects and programs\, and learn about how to get on board with the bays.\n\n\n\nThe Horseshoe Crab Hustle 5K costs $40 and the Horseshoe Crab Hustle 1 mile walk costs $25.\n\n\n\nAwards will be presented to: Overall Male & Female Champions\, Overall Male and Female Masters (40+)\, as well as the top 3 Male and Female finishers in the categories: 9 & under\, 10-13\, 14-19\, 20-29\, then 10-year age groups through 70+. Awards presented during the post-race fun.\n\n\n\nTo register\, click here. Mail in registrations can be downloaded from seashorestriders.com.\n\n\n\nPacket pickup is Saturday\, November 11th from 4-6pm or Race Day 7:30-8:45am at Bethany Brewing.
X-ALT-DESC;FMTTYPE=text/html:The Horseshoe Crab Hustle is a brand new 5K &amp\; 1 mile walk hosted by Bethany Brewing to benefit the Delaware Center for the Inland Bays. The event begins and ends at Bethany Brewing and will primarily take place on the trails of Fresh Pond State Park. Registrants will not only enjoy a fall run/walk surrounded by the beauty of nature\, but will have the opportunity to enjoy fresh brewed craft beers\, tasty post-race fare\, fresh shucked oysters\, live music\, raffles to benefit the bays\, and lost of fun all while supporting the mission of the Center to protect\, restore\, and preserve the Inland Bays. The Center will also have information tables about their various projects and programs\, and learn about how to get on board with the bays.<br />\n<br />\nThe Horseshoe Crab Hustle 5K costs $40 and the Horseshoe Crab Hustle 1 mile walk costs $25.<br />\n<br />\nAwards will be presented to: Overall Male &amp\; Female Champions\, Overall Male and Female Masters (40+)\, as well as the top 3 Male and Female finishers in the categories: 9 &amp\; under\, 10-13\, 14-19\, 20-29\, then 10-year age groups through 70+. Awards presented during the post-race fun.<br />\n<br />\nTo register\, click <a href="https://runsignup.com/Race/DE/OceanView/HorseshoeCrabHustle">here</a>. Mail in registrations can be downloaded from seashorestriders.com.<br />\n<br />\nPacket pickup is Saturday\, November 11th from 4-6pm or Race Day 7:30-8:45am at Bethany Brewing.
LOCATION:Bethany Brewing Company 38450 Hickman Rd. Ocean View\, DE 19970
UID:e.2126.26970
SEQUENCE:3
DTSTAMP:20260420T165905Z
URL:http://business.thequietresorts.com/events/details/bethany-brewing-and-center-for-the-inland-bays-horseshoe-crab-hustle-26970
END:VEVENT

END:VCALENDAR
