BEGIN:VCALENDAR
VERSION:2.0
PRODID:-//ChamberMaster//Event Calendar 2.0//EN
METHOD:PUBLISH
X-PUBLISHED-TTL:P3D
REFRESH-INTERVAL:P3D
CALSCALE:GREGORIAN
BEGIN:VEVENT
DTSTART:20220731T120000Z
DTEND:20220731T160000Z
X-MICROSOFT-CDO-ALLDAYEVENT:FALSE
SUMMARY:Bethany Beach Volunteer Fire Company T-shirt Shop Sale
DESCRIPTION:Join the Bethany Beach Volunteer Fire Company Auxiliary on Sunday\, June 5\, for the Bethany Beach Volunteer Fire Company T-shirt Shop Sale. The t-shirt shop will be open each Sunday\, from June 5 - September 4\, 8:00 am - 12:00 pm. The shop will be located in the alley behind the fire house. All proceeds will benefit the Bethany Beach Volunteer Firefighters and First Responders.
X-ALT-DESC;FMTTYPE=text/html:<span style="font-family:arial\;"><span style="font-size:14px\;">Join the Bethany Beach Volunteer Fire Company Auxiliary on Sunday\, June 5\, for the Bethany Beach Volunteer Fire Company T-shirt Shop Sale. The t-shirt shop will be open each Sunday\, from June 5 - September 4\, 8:00 am - 12:00 pm. The shop will be located in the alley behind the fire house. All proceeds will benefit the Bethany Beach Volunteer Firefighters and First Responders.</span></span>
LOCATION:Bethany Beach Volunteer Fire Company 215 Hollywood St Bethany Beach\, DE 19930
UID:e.2126.23712
SEQUENCE:3
DTSTAMP:20260421T223807Z
URL:http://business.thequietresorts.com/events/details/bethany-beach-volunteer-fire-company-t-shirt-shop-sale-07-31-2022-23712
END:VEVENT

END:VCALENDAR
