BEGIN:VCALENDAR
VERSION:2.0
PRODID:-//ChamberMaster//Event Calendar 2.0//EN
METHOD:PUBLISH
X-PUBLISHED-TTL:P3D
REFRESH-INTERVAL:P3D
CALSCALE:GREGORIAN
BEGIN:VEVENT
DTSTART:20210911T130000Z
DTEND:20210911T180000Z
X-MICROSOFT-CDO-ALLDAYEVENT:FALSE
SUMMARY:Bethany Beach Volunteer Fire Company Golf Scramble
DESCRIPTION:Join the Bethany Beach Volunteer Fire Company for their 3rd Annual Golf Scramble at Salt Ponds Golf Club\, located at 400 Bethany Loop\, Bethany Beach\, DE 19930. Participants will take their best chance at shooting par beginning at 9:00 am\; however\, it is encouraged for all participants to be on-site at 8:00 am for a rundown of the day.\n\n\n\nGolfers interested in participating can do so for $90 for a full 18 holes or $75 for 9 holes. If you would like to participate\, please email Linda Smith at lsmith765@yahoo.com. All proceeds from the event will benefit the Bethany Beach Volunteer Fire Company.
X-ALT-DESC;FMTTYPE=text/html:<span style="font-family:arial\;"><span style="font-size:14px\;">Join the Bethany Beach Volunteer Fire Company for their 3rd Annual Golf Scramble at Salt Ponds Golf Club\, located at 400 Bethany Loop\, Bethany Beach\, DE 19930. Participants will take their best chance at shooting par beginning at 9:00 am\; however\, it is encouraged for all participants to be on-site at 8:00 am for a rundown of the day.<br />\n<br />\nGolfers interested in participating can do so for $90 for a full 18 holes or $75 for 9 holes. If you would like to participate\, please email Linda Smith at lsmith765@yahoo.com. All proceeds from the event will benefit the Bethany Beach Volunteer Fire Company.</span></span>
LOCATION:Salt Pond Golf Club 400 Bethany Loop Bethany Beach\, DE 19930
UID:e.2126.22602
SEQUENCE:3
DTSTAMP:20260424T134833Z
URL:http://business.thequietresorts.com/events/details/bethany-beach-volunteer-fire-company-golf-scramble-22602
END:VEVENT

END:VCALENDAR
